BEGIN_USGS_DOQ_HEADER *
QUADRANGLE_NAME "BONNIE CLAIRE SE" *
QUADRANT SW *
WEST_LONGITUDE -117 7 30.0 *
EAST_LONGITUDE -117 3 45.0 *
NORTH_LATITUDE 37 3 45.0 *
SOUTH_LATITUDE 37 0 0.0 *
PRODUCTION_DATE 1998 10 21 *
RASTER_ORDER LEFT_RIGHT/TOP_BOTTOM *
BAND_ORGANIZATION "SINGLE FILE" *
BAND_CONTENT BLACK&WHITE *
BITS_PER_PIXEL 8 *
SAMPLES_AND_LINES 6261 7561 *
HORIZONTAL_DATUM NAD83 *
HORIZONTAL_COORDINATE_SYSTEM UTM *
COORDINATE_ZONE 11 *
HORIZONTAL_UNITS METERS *
HORIZONTAL_RESOLUTION 1.0 *
SECONDARY_HORIZONTAL_DATUM NAD27 *
XY_ORIGIN 488490.000 4102120.000 *
SECONDARY_XY_ORIGIN 488569.864 4101923.704 *
NATION US *
STATE NV *
NW_QUAD_CORNER_XY 488887.099 4101813.041 *
NE_QUAD_CORNER_XY 494443.550 4101807.562 *
SE_QUAD_CORNER_XY 494438.996 4094874.196 *
SW_QUAD_CORNER_XY 488877.989 4094879.672 *
SECONDARY_NW_QUAD_XY 488886.828 4101609.700 *
SECONDARY_NE_QUAD_XY 494443.415 4101604.220 *
SECONDARY_SE_QUAD_XY 494438.860 4094671.016 *
SECONDARY_SW_QUAD_XY 488877.718 4094676.493 *
RMSE_XY 1.840 *
IMAGE_SOURCE "Black and White film" *
SOURCE_IMAGE_ID "NAPP 7315-78" *
SOURCE_IMAGE_DATE 1994 05 30 *
SOURCE_DEM_DATE 1980 00 00 *
AGENCY "WESTERN MAPPING CENTER (WMC)" *
PRODUCER "Hammon, Jensen, Wallen & Associates" *
PRODUCTION_SYSTEM "ORTHOVIEW" *
STANDARD_VERSION 1996 12 *
METADATA_DATE 1998 10 21 *
DATA_FILE_SIZE 47345682 *
BYTE_COUNT 6261 * * * * * * * * * * * * * * * * * * * * * * * * * * * * * * * * * * * *
END_USGS_HEADER *
