BEGIN_USGS_DOQ_HEADER *
QUADRANGLE_NAME "BONNIE CLAIRE SW" *
QUADRANT NW *
WEST_LONGITUDE -117 15 0.0 *
EAST_LONGITUDE -117 11 15.0 *
NORTH_LATITUDE 37 7 30.0 *
SOUTH_LATITUDE 37 3 45.0 *
PRODUCTION_DATE 1998 10 21 *
RASTER_ORDER LEFT_RIGHT/TOP_BOTTOM *
BAND_ORGANIZATION "SINGLE FILE" *
BAND_CONTENT BLACK&WHITE *
BITS_PER_PIXEL 8 *
SAMPLES_AND_LINES 6261 7561 *
HORIZONTAL_DATUM NAD83 *
HORIZONTAL_COORDINATE_SYSTEM UTM *
COORDINATE_ZONE 11 *
HORIZONTAL_UNITS METERS *
HORIZONTAL_RESOLUTION 1.0 *
SECONDARY_HORIZONTAL_DATUM NAD27 *
XY_ORIGIN 477390.000 4109070.000 *
SECONDARY_XY_ORIGIN 477469.802 4108873.859 *
NATION US *
STATE NV *
NW_QUAD_CORNER_XY 477792.430 4108768.415 *
NE_QUAD_CORNER_XY 483344.329 4108755.622 *
SE_QUAD_CORNER_XY 483330.644 4101822.174 *
SW_QUAD_CORNER_XY 477774.183 4101834.959 *
SECONDARY_NW_QUAD_XY 477791.887 4108564.913 *
SECONDARY_NE_QUAD_XY 483343.921 4108552.119 *
SECONDARY_SE_QUAD_XY 483330.237 4101618.833 *
SECONDARY_SW_QUAD_XY 477773.641 4101631.618 *
RMSE_XY 0.894 *
IMAGE_SOURCE "Black and White film" *
SOURCE_IMAGE_ID "NAPP 6315-20" *
SOURCE_IMAGE_DATE 1993 09 30 *
SOURCE_DEM_DATE 1980 00 00 *
AGENCY "WESTERN MAPPING CENTER (WMC)" *
PRODUCER "Hammon, Jensen, Wallen & Associates" *
PRODUCTION_SYSTEM "ORTHOVIEW" *
STANDARD_VERSION 1996 12 *
METADATA_DATE 1998 10 21 *
DATA_FILE_SIZE 47345682 *
BYTE_COUNT 6261 * * * * * * * * * * * * * * * * * * * * * * * * * * * * * * * * * * * *
END_USGS_HEADER *
