BEGIN_USGS_DOQ_HEADER *
QUADRANGLE_NAME "WAUCOBA SPRING" *
QUADRANT SE *
WEST_LONGITUDE -117 56 15.000 *
EAST_LONGITUDE -117 52 30.000 *
NORTH_LATITUDE 37 3 45.000 *
SOUTH_LATITUDE 37 0 0.000 *
PRODUCTION_DATE 2001 12 20 *
RASTER_ORDER LEFT_RIGHT/TOP_BOTTOM *
BAND_ORGANIZATION "SINGLE FILE" *
BAND_CONTENT BLACK&WHITE *
BITS_PER_PIXEL 8 *
SAMPLES_AND_LINES 6307 7593 *
HORIZONTAL_DATUM NAD83 *
HORIZONTAL_COORDINATE_SYSTEM UTM *
COORDINATE_ZONE 11 *
HORIZONTAL_UNITS METERS *
HORIZONTAL_RESOLUTION 1.0 *
SECONDARY_HORIZONTAL_DATUM NAD27 *
XY_ORIGIN 416202.012 4102516.720 *
SECONDARY_XY_ORIGIN 416281.902 4102320.254 *
NATION US *
STATE CA *
NW_QUAD_CORNER_XY 416652.233 4102216.720 *
NE_QUAD_CORNER_XY 422208.875 4102163.746 *
SE_QUAD_CORNER_XY 422145.099 4095230.157 *
SW_QUAD_CORNER_XY 416583.901 4095283.098 *
SECONDARY_NW_QUAD_XY 416650.202 4102013.389 *
SECONDARY_NE_QUAD_XY 422206.979 4101960.414 *
SECONDARY_SE_QUAD_XY 422143.205 4095026.987 *
SECONDARY_SW_QUAD_XY 416581.872 4095079.929 *
RMSE_XY 1.68 *
IMAGE_SOURCE "BLACK AND WHITE FILM" *
SOURCE_IMAGE_ID "NAPP 10551 79" *
SOURCE_IMAGE_DATE 1998 8 22 *
SOURCE_IMAGE_ID "NAPP 10551 80" *
SOURCE_IMAGE_DATE 1998 8 22 *
SOURCE_IMAGE_ID "NAPP 10551 78" *
SOURCE_IMAGE_DATE 1998 8 22 *
SOURCE_IMAGE_ID "NAPP 10551 21" *
SOURCE_IMAGE_DATE 1998 8 22 *
SOURCE_IMAGE_ID "NAPP 10551 20" *
SOURCE_IMAGE_DATE 1998 8 22 *
SOURCE_IMAGE_ID "NAPP 10551 19" *
SOURCE_IMAGE_DATE 1998 8 22 *
SOURCE_DEM_DATE 2000 0 0 *
AGENCY "WESTERN MAPPING CENTER (WMC)" *
PRODUCER "USDA FS GEOSPATIAL SERVICE AND TECHNOLOGY CENTER" *
PRODUCTION_SYSTEM "ORBIT OR_RECTIFY V.5.2" *
STANDARD_VERSION 1996 12 *
METADATA_DATE 2001 12 31 *
DATA_FILE_SIZE 47895358 *
BYTE_COUNT 6307 * * * * * * * * * * * * * * * * * * * * * * * * * *
END_USGS_HEADER *
