BEGIN_USGS_DOQ_HEADER *
QUADRANGLE_NAME "GOLD MOUNTAIN" *
QUADRANT NW *
WEST_LONGITUDE -117 22 30.0 *
EAST_LONGITUDE -117 18 45.0 *
NORTH_LATITUDE 37 15 0.0 *
SOUTH_LATITUDE 37 11 15.0 *
PRODUCTION_DATE 1998 10 21 *
RASTER_ORDER LEFT_RIGHT/TOP_BOTTOM *
BAND_ORGANIZATION "SINGLE FILE" *
BAND_CONTENT BLACK&WHITE *
BITS_PER_PIXEL 8 *
SAMPLES_AND_LINES 6261 7571 *
HORIZONTAL_DATUM NAD83 *
HORIZONTAL_COORDINATE_SYSTEM UTM *
COORDINATE_ZONE 11 *
HORIZONTAL_UNITS METERS *
HORIZONTAL_RESOLUTION 1.0 *
SECONDARY_HORIZONTAL_DATUM NAD27 *
XY_ORIGIN 466330.000 4122980.000 *
SECONDARY_XY_ORIGIN 466409.738 4122783.620 *
NATION US *
STATE NV *
NW_QUAD_CORNER_XY 466743.467 4122672.145 *
NE_QUAD_CORNER_XY 472286.239 4122652.016 *
SE_QUAD_CORNER_XY 472263.365 4115718.404 *
SW_QUAD_CORNER_XY 466716.018 4115738.520 *
SECONDARY_NW_QUAD_XY 466742.651 4122468.323 *
SECONDARY_NE_QUAD_XY 472285.559 4122448.194 *
SECONDARY_SE_QUAD_XY 472262.685 4115514.741 *
SECONDARY_SW_QUAD_XY 466715.203 4115534.858 *
RMSE_XY 2.329 *
IMAGE_SOURCE "Black and White film" *
SOURCE_IMAGE_ID "NAPP 7321-91" *
SOURCE_IMAGE_DATE 1994 06 05 *
SOURCE_DEM_DATE 1988 00 00 *
AGENCY "WESTERN MAPPING CENTER (WMC)" *
PRODUCER "Hammon, Jensen, Wallen & Associates" *
PRODUCTION_SYSTEM "ORTHOVIEW" *
STANDARD_VERSION 1996 12 *
METADATA_DATE 1998 10 21 *
DATA_FILE_SIZE 47408292 *
BYTE_COUNT 6261 * * * * * * * * * * * * * * * * * * * * * * * * * * * * * * * * * * * *
END_USGS_HEADER *
