BEGIN_USGS_DOQ_HEADER *
QUADRANGLE_NAME "West of Gold Mountain" 3.75 or 7.5-min. name*
QUADRANT SW quadrant indicator if cell size = 3.75-minutes*
WEST_LONGITUDE -117 30 0.000 signed deg min sec SDDD MM SS.SSS*
EAST_LONGITUDE -117 26 15.000 signed deg min sec SDDD MM SS.SSS*
NORTH_LATITUDE 37 11 15.000 signed deg min sec SDDD MM SS.SSS*
SOUTH_LATITUDE 37 7 30.000 signed deg min sec SDDD MM SS.SSS*
PRODUCTION_DATE 2001 6 29 yyyy mm dd*
RASTER_ORDER left_right/top_bottom video display order*
BAND_ORGANIZATION "single file" single file or BSQ, or BIL or BIP*
BAND_CONTENT BLACK&WHITE black&white or red green blue*
BITS_PER_PIXEL 8 radiometric resolution*
SAMPLES_AND_LINES 6265 7569 number of columns and rows*
HORIZONTAL_DATUM NAD83 primary horizontal datum*
HORIZONTAL_COORDINATE_SYSTEM UTM *
COORDINATE_ZONE 11 coordinate system zone number*
HORIZONTAL_UNITS meters coordinate system units*
HORIZONTAL_RESOLUTION 1.00 pixel horiz. ground sample distance*
SECONDARY_HORIZONTAL_DATUM NAD27 secondary horizontal datum*
XY_ORIGIN 455204.580 4116089.230 coord. of upper left pixel pri. datum*
SECONDARY_XY_ORIGIN 455284.200 4115892.674 coord upper left pixel sec datum*
NATION US nation code*
STATE NV state fip code*
STATE CA state fip code*
NW_QUAD_CORNER_XY 455621.290 4115789.726 XY coords. of pri. NW quad corner*
NE_QUAD_CORNER_XY 461168.660 4115762.294 XY coords. of pri. NE quad corner*
SE_QUAD_CORNER_XY 461136.682 4108828.728 XY coords. of pri. SE quad corner*
SW_QUAD_CORNER_XY 455584.743 4108856.143 XY coords. of pri. SW quad corner*
SECONDARY_NW_QUAD_XY 455620.203 4115586.066 XY coords. - sec. NW quad cor.*
SECONDARY_NE_QUAD_XY 461167.709 4115558.633 XY coords. - sec. NE quad cor.*
SECONDARY_SE_QUAD_XY 461135.732 4108625.227 XY coords. - sec. SE quad cor.*
SECONDARY_SW_QUAD_XY 455583.658 4108652.643 XY coords. - sec. SW quad cor.*
RMSE_XY 0.00 doq horiz. accuracy*
IMAGE_SOURCE "BLACK AND WHITE FILM" b&w, cir, natural color, other*
SOURCE_IMAGE_ID "NAPP 10552 4" source image id*
SOURCE_IMAGE_DATE 1998 8 22 source image date as yyyy mm dd*
SOURCE_IMAGE_ID "NAPP 10552 235" source image id*
SOURCE_IMAGE_DATE 1998 8 22 source image date as yyyy mm dd*
SOURCE_IMAGE_ID "NAPP 10552 233" source image id*
SOURCE_IMAGE_DATE 1998 8 22 source image date as yyyy mm dd*
SOURCE_IMAGE_ID "NAPP 10552 2" source image id*
SOURCE_IMAGE_DATE 1998 8 22 source image date as yyyy mm dd*
SOURCE_DEM_DATE 1987 1 1 source dem date yyyy mm dd*
AGENCY "U.S. Geological Survey" oversight agency*
PRODUCER "Rocky Mountain Mapping Center (RMMC)" producer/contractor*
PRODUCTION_SYSTEM "ImageStation OrthoPro 02.02.01.08" production system*
STANDARD_VERSION 1996 12 version of DOQ standard*
METADATA_DATE 2001 6 29 date created or changed, yyyy mm dd*
DATA_FILE_SIZE 47426050 data set size in bytes*
BYTE_COUNT 6265 header byte count* * * * * * * * * * * * * * * * * * * * * * * * * * * * *
END_USGS_HEADER *
