BEGIN_USGS_DOQ_HEADER *
QUADRANGLE_NAME "HANGING ROCK CANYON" 3.45 or 7.5-min. name*
QUADRANT SW quadrant indicator if cell size = 3.75-minutes*
WEST_LONGITUDE -117 45 0.000 signed deg min sec SDDD MM SS.SSS*
EAST_LONGITUDE -117 41 15.000 signed deg min sec SDDD MM SS.SSS*
NORTH_LATITUDE 37 11 15.000 signed deg min sec SDDD MM SS.SSS*
SOUTH_LATITUDE 37 7 30.000 signed deg min sec SDDD MM SS.SSS*
PRODUCTION_DATE 1996 12 30 yyyy mm dd*
RASTER_ORDER LEFT_RIGHT/TOP_BOTTOM video display order*
BAND_ORGANIZATION "SINGLE FILE" single file or BSQ, or BIL or BIP*
BAND_CONTENT BLACK&WHITE black&white or red green blue*
BITS_PER_PIXEL 8 radiometric resolution*
SAMPLES_AND_LINES 6300 7590 number of columns and rows*
HORIZONTAL_DATUM NAD83 primary horizontal datum*
HORIZONTAL_COORDINATE_SYSTEM UTM *
COORDINATE_ZONE 11 coordinate system zone number*
HORIZONTAL_UNITS METERS coordinate system units*
HORIZONTAL_RESOLUTION 1.00 pixel horiz. ground sample distance*
SECONDARY_HORIZONTAL_DATUM NAD27 secondary horizontal datum*
XY_ORIGIN 432990.000 4116240.000 coord. of upper left pixel pri. datum*
SECONDARY_XY_ORIGIN 433069.816 4116043.262 coord upper left pixel sec datum*
NATION US nation code*
STATE CA state fip code*
NW_QUAD_CORNER_XY 433431.648 4115936.034 XY coords. of pri. NW quad corner*
NE_QUAD_CORNER_XY 438979.086 4115893.970 XY coords. of pri. NE quad corner*
SE_QUAD_CORNER_XY 438928.833 4108960.323 XY coords. of pri. SE quad corner*
SW_QUAD_CORNER_XY 433376.825 4109002.361 XY coords. of pri. SW quad corner*
SECONDARY_NW_QUAD_XY 433430.018 4115732.377 XY coords. - sec. NW quad cor.*
SECONDARY_NE_QUAD_XY 438977.592 4115690.312 XY coords. - sec. NE quad cor.*
SECONDARY_SE_QUAD_XY 438927.340 4108756.825 XY coords. - sec. SE quad cor.*
SECONDARY_SW_QUAD_XY 433375.197 4108798.864 XY coords. - sec. SW quad cor.*
RMSE_XY 1.10 doq horiz. accuracy*
IMAGE_SOURCE "BLACK AND WHITE FILM" b&w, cir, natural color, other*
SOURCE_IMAGE_ID "NAPP 6315 029" source image id*
SOURCE_IMAGE_DATE 1993 9 30 source image date as yyyy mm dd*
SOURCE_DEM_DATE 1996 12 30 source dem date yyyy mm dd*
AGENCY "WESTERN MAPPING CENTER (WMC)" oversight agency*
PRODUCER "Analytical Surveys" producer/contractor*
PRODUCTION_SYSTEM "ORBIT OR_RECTIFY V.5.2" production system*
STANDARD_VERSION 1996 12 version of DOQ standard*
METADATA_DATE 1997 6 9 date created or changed, yyyy mm dd*
DATA_FILE_SIZE 47823300 data set size in bytes*
BYTE_COUNT 6300 header byte count* * * * * * * * * * * * * * * * * * * * * * * * * * * * * * * * * * * *
END_USGS_HEADER *
