BEGIN_USGS_DOQ_HEADER *
QUADRANGLE_NAME "JOSHUA FLATS" *
QUADRANT SW *
WEST_LONGITUDE -118 0 0.000 *
EAST_LONGITUDE -117 56 15.000 *
NORTH_LATITUDE 37 11 15.000 *
SOUTH_LATITUDE 37 7 30.000 *
PRODUCTION_DATE 2001 12 20 *
RASTER_ORDER LEFT_RIGHT/TOP_BOTTOM *
BAND_ORGANIZATION "SINGLE FILE" *
BAND_CONTENT BLACK&WHITE *
BITS_PER_PIXEL 8 *
SAMPLES_AND_LINES 6303 7597 *
HORIZONTAL_DATUM NAD83 *
HORIZONTAL_COORDINATE_SYSTEM UTM *
COORDINATE_ZONE 11 *
HORIZONTAL_UNITS METERS *
HORIZONTAL_RESOLUTION 1.0 *
SECONDARY_HORIZONTAL_DATUM NAD27 *
XY_ORIGIN 410786.428 4116440.877 *
SECONDARY_XY_ORIGIN 410866.408 4116244.072 *
NATION US *
STATE CA *
NW_QUAD_CORNER_XY 411241.660 4116140.877 *
NE_QUAD_CORNER_XY 416789.196 4116084.178 *
SE_QUAD_CORNER_XY 416720.665 4109150.413 *
SW_QUAD_CORNER_XY 411168.559 4109207.077 *
SECONDARY_NW_QUAD_XY 411239.490 4115937.225 *
SECONDARY_NE_QUAD_XY 416787.161 4115880.525 *
SECONDARY_SE_QUAD_XY 416718.632 4108946.921 *
SECONDARY_SW_QUAD_XY 411166.391 4109003.586 *
RMSE_XY 1.68 *
IMAGE_SOURCE "BLACK AND WHITE FILM" *
SOURCE_IMAGE_ID "NAPP 10551 16" *
SOURCE_IMAGE_DATE 1998 8 22 *
SOURCE_IMAGE_ID "NAPP 10551 17" *
SOURCE_IMAGE_DATE 1998 8 22 *
SOURCE_IMAGE_ID "NAPP 10551 15" *
SOURCE_IMAGE_DATE 1998 8 22 *
SOURCE_IMAGE_ID "NAPP 10569 188" *
SOURCE_IMAGE_DATE 1999 8 8 *
SOURCE_IMAGE_ID "NAPP 10569 187" *
SOURCE_IMAGE_DATE 1999 8 8 *
SOURCE_IMAGE_ID "NAPP 10569 186" *
SOURCE_IMAGE_DATE 1999 8 8 *
SOURCE_IMAGE_ID "NAPP 10551 76" *
SOURCE_IMAGE_DATE 1998 8 22 *
SOURCE_IMAGE_ID "NAPP 10551 75" *
SOURCE_IMAGE_DATE 1998 8 22 *
SOURCE_IMAGE_ID "NAPP 10551 74" *
SOURCE_IMAGE_DATE 1998 8 22 *
SOURCE_DEM_DATE 1997 0 0 *
AGENCY "WESTERN MAPPING CENTER (WMC)" *
PRODUCER "USDA FS GEOSPATIAL SERVICE AND TECHNOLOGY CENTER" *
PRODUCTION_SYSTEM "ORBIT OR_RECTIFY V.5.2" *
STANDARD_VERSION 1996 12 *
METADATA_DATE 2001 12 31 *
DATA_FILE_SIZE 47890194 *
BYTE_COUNT 6303 * * * * * * * * * * * * * * * * * * * *
END_USGS_HEADER *
