BEGIN_USGS_DOQ_HEADER *
QUADRANGLE_NAME "SCOTTYS JUNCTION SW" *
QUADRANT NE *
WEST_LONGITUDE -117 11 15.0 *
EAST_LONGITUDE -117 7 30.0 *
NORTH_LATITUDE 37 22 30.0 *
SOUTH_LATITUDE 37 18 45.0 *
PRODUCTION_DATE 1998 10 21 *
RASTER_ORDER LEFT_RIGHT/TOP_BOTTOM *
BAND_ORGANIZATION "SINGLE FILE" *
BAND_CONTENT BLACK&WHITE *
BITS_PER_PIXEL 8 *
SAMPLES_AND_LINES 6241 7571 *
HORIZONTAL_DATUM NAD83 *
HORIZONTAL_COORDINATE_SYSTEM UTM *
COORDINATE_ZONE 11 *
HORIZONTAL_UNITS METERS *
HORIZONTAL_RESOLUTION 1.0 *
SECONDARY_HORIZONTAL_DATUM NAD27 *
XY_ORIGIN 483000.000 4136800.000 *
SECONDARY_XY_ORIGIN 483079.879 4136603.362 *
NATION US *
STATE NV *
NW_QUAD_CORNER_XY 483399.266 4136490.147 *
NE_QUAD_CORNER_XY 488932.847 4136480.987 *
SE_QUAD_CORNER_XY 488923.671 4129547.251 *
SW_QUAD_CORNER_XY 483385.502 4129556.406 *
SECONDARY_NW_QUAD_XY 483398.857 4136286.007 *
SECONDARY_NE_QUAD_XY 488932.575 4136276.847 *
SECONDARY_SE_QUAD_XY 488923.399 4129343.269 *
SECONDARY_SW_QUAD_XY 483385.094 4129352.424 *
RMSE_XY 4.809 *
IMAGE_SOURCE "Black and White film" *
SOURCE_IMAGE_ID "NAPP 7315-88" *
SOURCE_IMAGE_DATE 1994 05 30 *
SOURCE_DEM_DATE 1992 00 00 *
AGENCY "WESTERN MAPPING CENTER (WMC)" *
PRODUCER "Hammon, Jensen, Wallen & Associates" *
PRODUCTION_SYSTEM "ORTHOVIEW" *
STANDARD_VERSION 1996 12 *
METADATA_DATE 1998 10 21 *
DATA_FILE_SIZE 47256852 *
BYTE_COUNT 6241 * * * * * * * * * * * * * * * * * * * * * * * * * * * * * * * * * * *
END_USGS_HEADER *
