BEGIN_USGS_DOQ_HEADER *
QUADRANGLE_NAME "SCOTTYS JUNCTION SW" *
QUADRANT SW *
WEST_LONGITUDE -117 15 0.0 *
EAST_LONGITUDE -117 11 15.0 *
NORTH_LATITUDE 37 18 45.0 *
SOUTH_LATITUDE 37 15 0.0 *
PRODUCTION_DATE 1998 10 21 *
RASTER_ORDER LEFT_RIGHT/TOP_BOTTOM *
BAND_ORGANIZATION "SINGLE FILE" *
BAND_CONTENT BLACK&WHITE *
BITS_PER_PIXEL 8 *
SAMPLES_AND_LINES 6251 7561 *
HORIZONTAL_DATUM NAD83 *
HORIZONTAL_COORDINATE_SYSTEM UTM *
COORDINATE_ZONE 11 *
HORIZONTAL_UNITS METERS *
HORIZONTAL_RESOLUTION 1.0 *
SECONDARY_HORIZONTAL_DATUM NAD27 *
XY_ORIGIN 477440.000 4129870.000 *
SECONDARY_XY_ORIGIN 477519.833 4129673.630 *
NATION US *
STATE NV *
NW_QUAD_CORNER_XY 477847.327 4129569.223 *
NE_QUAD_CORNER_XY 483385.502 4129556.406 *
SE_QUAD_CORNER_XY 483371.757 4122622.738 *
SW_QUAD_CORNER_XY 477829.002 4122635.547 *
SECONDARY_NW_QUAD_XY 477846.783 4129365.242 *
SECONDARY_NE_QUAD_XY 483385.094 4129352.424 *
SECONDARY_SE_QUAD_XY 483371.350 4122418.915 *
SECONDARY_SW_QUAD_XY 477828.458 4122431.725 *
RMSE_XY 1.480 *
IMAGE_SOURCE "Black and White film" *
SOURCE_IMAGE_ID "NAPP 7315-202" *
SOURCE_IMAGE_DATE 1994 05 30 *
SOURCE_DEM_DATE 1992 00 00 *
AGENCY "WESTERN MAPPING CENTER (WMC)" *
PRODUCER "Hammon, Jensen, Wallen & Associates" *
PRODUCTION_SYSTEM "ORTHOVIEW" *
STANDARD_VERSION 1996 12 *
METADATA_DATE 1998 10 21 *
DATA_FILE_SIZE 47270062 *
BYTE_COUNT 6251 * * * * * * * * * * * * * * * * * * * * * * * * * * * * * * * * * * * *
END_USGS_HEADER *
