BEGIN_USGS_DOQ_HEADER *
QUADRANGLE_NAME "Gold Point SW" 3.75 or 7.5-min. name*
QUADRANT SW quadrant indicator if cell size = 3.75-minutes*
WEST_LONGITUDE -117 30 0.000 signed deg min sec SDDD MM SS.SSS*
EAST_LONGITUDE -117 26 15.000 signed deg min sec SDDD MM SS.SSS*
NORTH_LATITUDE 37 18 45.000 signed deg min sec SDDD MM SS.SSS*
SOUTH_LATITUDE 37 15 0.000 signed deg min sec SDDD MM SS.SSS*
PRODUCTION_DATE 2001 6 25 yyyy mm dd*
RASTER_ORDER left_right/top_bottom video display order*
BAND_ORGANIZATION "single file" single file or BSQ, or BIL or BIP*
BAND_CONTENT BLACK&WHITE black&white or red green blue*
BITS_PER_PIXEL 8 radiometric resolution*
SAMPLES_AND_LINES 6256 7569 number of columns and rows*
HORIZONTAL_DATUM NAD83 primary horizontal datum*
HORIZONTAL_COORDINATE_SYSTEM UTM *
COORDINATE_ZONE 11 coordinate system zone number*
HORIZONTAL_UNITS meters coordinate system units*
HORIZONTAL_RESOLUTION 1.00 pixel horiz. ground sample distance*
SECONDARY_HORIZONTAL_DATUM NAD27 secondary horizontal datum*
XY_ORIGIN 455277.650 4129956.610 coord. of upper left pixel pri. datum*
SECONDARY_XY_ORIGIN 455357.408 4129759.810 coord upper left pixel sec datum*
NATION US nation code*
STATE NV state fip code*
NW_QUAD_CORNER_XY 455694.542 4129657.112 XY coords. of pri. NW quad corner*
NE_QUAD_CORNER_XY 461232.755 4129629.646 XY coords. of pri. NE quad corner*
SE_QUAD_CORNER_XY 461200.684 4122695.934 XY coords. of pri. SE quad corner*
SW_QUAD_CORNER_XY 455657.889 4122723.383 XY coords. of pri. SW quad corner*
SECONDARY_NW_QUAD_XY 455693.454 4129453.132 XY coords. - sec. NW quad cor.*
SECONDARY_NE_QUAD_XY 461231.803 4129425.666 XY coords. - sec. NE quad cor.*
SECONDARY_SE_QUAD_XY 461199.733 4122492.113 XY coords. - sec. SE quad cor.*
SECONDARY_SW_QUAD_XY 455656.802 4122519.562 XY coords. - sec. SW quad cor.*
RMSE_XY 2.66 doq horiz. accuracy*
IMAGE_SOURCE "BLACK AND WHITE FILM" b&w, cir, natural color, other*
SOURCE_IMAGE_ID "NAPP 11545 58 " source image id*
SOURCE_IMAGE_DATE 1999 9 6 source image date as yyyy mm dd*
SOURCE_IMAGE_ID "NAPP 12015 17" source image id*
SOURCE_IMAGE_DATE 1999 10 8 source image date as yyyy mm dd*
SOURCE_IMAGE_ID "NAPP 10552 2" source image id*
SOURCE_IMAGE_DATE 1998 8 22 source image date as yyyy mm dd*
SOURCE_IMAGE_ID "NAPP 11545 56" source image id*
SOURCE_IMAGE_DATE 1999 6 9 source image date as yyyy mm dd*
SOURCE_IMAGE_ID "NAPP 12015 8" source image id*
SOURCE_IMAGE_DATE 1999 10 8 source image date as yyyy mm dd*
SOURCE_IMAGE_ID "NAPP 12015 6" source image id*
SOURCE_IMAGE_DATE 1999 10 8 source image date as yyyy mm dd*
SOURCE_IMAGE_ID "NAPP 10552 235" source image id*
SOURCE_IMAGE_DATE 1998 8 23 source image date as yyyy mm dd*
SOURCE_IMAGE_ID "NAPP 12015 15" source image id*
SOURCE_IMAGE_DATE 1999 10 8 source image date as yyyy mm dd*
SOURCE_DEM_DATE 1968 1 1 source dem date yyyy mm dd*
AGENCY "U.S. Geological Survey" oversight agency*
PRODUCER "Rocky Mountain Mapping Center (RMMC)" producer/contractor*
PRODUCTION_SYSTEM "ImageStation OrthoPro 02.02.01.08" production system*
STANDARD_VERSION 1996 12 version of DOQ standard*
METADATA_DATE 2001 6 25 date created or changed, yyyy mm dd*
DATA_FILE_SIZE 47357920 data set size in bytes*
BYTE_COUNT 6256 header byte count* * * * * * * * * * * * * * * * * * * * * *
END_USGS_HEADER *
