BEGIN_USGS_DOQ_HEADER *
QUADRANGLE_NAME "Tule Canyon" 3.75 or 7.5-min. name*
QUADRANT SW quadrant indicator if cell size = 3.75-minutes*
WEST_LONGITUDE -117 37 30.000 signed deg min sec SDDD MM SS.SSS*
EAST_LONGITUDE -117 33 45.000 signed deg min sec SDDD MM SS.SSS*
NORTH_LATITUDE 37 18 45.000 signed deg min sec SDDD MM SS.SSS*
SOUTH_LATITUDE 37 15 0.000 signed deg min sec SDDD MM SS.SSS*
PRODUCTION_DATE 2001 6 25 yyyy mm dd*
RASTER_ORDER left_right/top_bottom video display order*
BAND_ORGANIZATION "single file" single file or BSQ, or BIL or BIP*
BAND_CONTENT BLACK&WHITE black&white or red green blue*
BITS_PER_PIXEL 8 radiometric resolution*
SAMPLES_AND_LINES 6266 7576 number of columns and rows*
HORIZONTAL_DATUM NAD83 primary horizontal datum*
HORIZONTAL_COORDINATE_SYSTEM UTM *
COORDINATE_ZONE 11 coordinate system zone number*
HORIZONTAL_UNITS meters coordinate system units*
HORIZONTAL_RESOLUTION 1.00 pixel horiz. ground sample distance*
SECONDARY_HORIZONTAL_DATUM NAD27 secondary horizontal datum*
XY_ORIGIN 444191.630 4130022.530 coord. of upper left pixel pri. datum*
SECONDARY_XY_ORIGIN 444271.485 4129825.623 coord upper left pixel sec datum*
NATION US nation code*
STATE NV state fip code*
STATE CA state fip code*
NW_QUAD_CORNER_XY 444618.071 4129723.030 XY coords. of pri. NW quad corner*
NE_QUAD_CORNER_XY 450156.315 4129688.239 XY coords. of pri. NE quad corner*
SE_QUAD_CORNER_XY 450115.080 4122754.492 XY coords. of pri. SE quad corner*
SW_QUAD_CORNER_XY 444572.255 4122789.261 XY coords. of pri. SW quad corner*
SECONDARY_NW_QUAD_XY 444616.711 4129519.052 XY coords. - sec. NW quad cor.*
SECONDARY_NE_QUAD_XY 450155.090 4129484.261 XY coords. - sec. NE quad cor.*
SECONDARY_SE_QUAD_XY 450113.857 4122550.672 XY coords. - sec. SE quad cor.*
SECONDARY_SW_QUAD_XY 444570.896 4122585.442 XY coords. - sec. SW quad cor.*
RMSE_XY 2.38 doq horiz. accuracy*
IMAGE_SOURCE "BLACK AND WHITE FILM" b&w, cir, natural color, other*
SOURCE_IMAGE_ID "NAPP 11545 58 " source image id*
SOURCE_IMAGE_DATE 1999 9 6 source image date as yyyy mm dd*
SOURCE_IMAGE_ID "NAPP 11545 54" source image id*
SOURCE_IMAGE_DATE 1999 6 9 source image date as yyyy mm dd*
SOURCE_IMAGE_ID "NAPP 11545 56" source image id*
SOURCE_IMAGE_DATE 1999 6 9 source image date as yyyy mm dd*
SOURCE_IMAGE_ID "NAPP 11545 51" source image id*
SOURCE_IMAGE_DATE 1999 6 9 source image date as yyyy mm dd*
SOURCE_IMAGE_ID "NAPP 11545 53" source image id*
SOURCE_IMAGE_DATE 1999 6 9 source image date as yyyy mm dd*
SOURCE_IMAGE_ID "NAPP 11545 55" source image id*
SOURCE_IMAGE_DATE 1999 6 9 source image date as yyyy mm dd*
SOURCE_DEM_DATE 1968 1 1 source dem date yyyy mm dd*
AGENCY "U.S. Geological Survey" oversight agency*
PRODUCER "Rocky Mountain Mapping Center (RMMC)" producer/contractor*
PRODUCTION_SYSTEM "ImageStation OrthoPro 02.02.01.08" production system*
STANDARD_VERSION 1996 12 version of DOQ standard*
METADATA_DATE 2001 6 25 date created or changed, yyyy mm dd*
DATA_FILE_SIZE 47477482 data set size in bytes*
BYTE_COUNT 6266 header byte count* * * * * * * * * * * * * * * * * * * * * * * * *
END_USGS_HEADER *
