BEGIN_USGS_DOQ_HEADER *
QUADRANGLE_NAME "LAST CHANCE MOUNTAIN" 3.45 or 7.5-min. name*
QUADRANT NW quadrant indicator if cell size = 3.75-minutes*
WEST_LONGITUDE -117 45 0.000 signed deg min sec SDDD MM SS.SSS*
EAST_LONGITUDE -117 41 15.000 signed deg min sec SDDD MM SS.SSS*
NORTH_LATITUDE 37 22 30.000 signed deg min sec SDDD MM SS.SSS*
SOUTH_LATITUDE 37 18 45.000 signed deg min sec SDDD MM SS.SSS*
PRODUCTION_DATE 1996 12 30 yyyy mm dd*
RASTER_ORDER LEFT_RIGHT/TOP_BOTTOM video display order*
BAND_ORGANIZATION "SINGLE FILE" single file or BSQ, or BIL or BIP*
BAND_CONTENT BLACK&WHITE black&white or red green blue*
BITS_PER_PIXEL 8 radiometric resolution*
SAMPLES_AND_LINES 6300 7620 number of columns and rows*
HORIZONTAL_DATUM NAD83 primary horizontal datum*
HORIZONTAL_COORDINATE_SYSTEM UTM *
COORDINATE_ZONE 11 coordinate system zone number*
HORIZONTAL_UNITS METERS coordinate system units*
HORIZONTAL_RESOLUTION 1.00 pixel horiz. ground sample distance*
SECONDARY_HORIZONTAL_DATUM NAD27 secondary horizontal datum*
XY_ORIGIN 433140.000 4137060.000 coord. of upper left pixel pri. datum*
SECONDARY_XY_ORIGIN 433220.024 4136862.848 coord upper left pixel sec datum*
NATION US nation code*
STATE CA state fip code*
STATE NV state fip code*
NW_QUAD_CORNER_XY 433596.591 4136737.488 XY coords. of pri. NW quad corner*
NE_QUAD_CORNER_XY 439130.282 4136695.347 XY coords. of pri. NE quad corner*
SE_QUAD_CORNER_XY 439079.811 4129761.482 XY coords. of pri. SE quad corner*
SW_QUAD_CORNER_XY 433541.530 4129803.598 XY coords. of pri. SW quad corner*
SECONDARY_NW_QUAD_XY 433594.957 4136533.354 XY coords. - sec. NW quad cor.*
SECONDARY_NE_QUAD_XY 439128.785 4136491.212 XY coords. - sec. NE quad cor.*
SECONDARY_SE_QUAD_XY 439078.314 4129557.506 XY coords. - sec. SE quad cor.*
SECONDARY_SW_QUAD_XY 433539.898 4129599.622 XY coords. - sec. SW quad cor.*
RMSE_XY 2.00 doq horiz. accuracy*
IMAGE_SOURCE "BLACK AND WHITE FILM" b&w, cir, natural color, other*
SOURCE_IMAGE_ID "NAPP 6301 167" source image id*
SOURCE_IMAGE_DATE 1993 6 9 source image date as yyyy mm dd*
SOURCE_DEM_DATE 1996 12 30 source dem date yyyy mm dd*
AGENCY "WESTERN MAPPING CENTER (WMC)" oversight agency*
PRODUCER "Analytical Surveys" producer/contractor*
PRODUCTION_SYSTEM "ORBIT OR_RECTIFY V.5.2" production system*
STANDARD_VERSION 1996 12 version of DOQ standard*
METADATA_DATE 1997 6 9 date created or changed, yyyy mm dd*
DATA_FILE_SIZE 48012300 data set size in bytes*
BYTE_COUNT 6300 header byte count* * * * * * * * * * * * * * * * * * * * * * * * * * * * * * * * * * *
END_USGS_HEADER *
