BEGIN_USGS_DOQ_HEADER *
QUADRANGLE_NAME "SOLDIER PASS" 3.45 or 7.5-min. name*
QUADRANT SW quadrant indicator if cell size = 3.75-minutes*
WEST_LONGITUDE -118 0 0.000 signed deg min sec SDDD MM SS.SSS*
EAST_LONGITUDE -117 56 15.000 signed deg min sec SDDD MM SS.SSS*
NORTH_LATITUDE 37 18 45.000 signed deg min sec SDDD MM SS.SSS*
SOUTH_LATITUDE 37 15 0.000 signed deg min sec SDDD MM SS.SSS*
PRODUCTION_DATE 1998 9 28 yyyy mm dd*
RASTER_ORDER LEFT_RIGHT/TOP_BOTTOM video display order*
BAND_ORGANIZATION "SINGLE FILE" single file or BSQ, or BIL or BIP*
BAND_CONTENT BLACK&WHITE black&white or red green blue*
BITS_PER_PIXEL 8 radiometric resolution*
SAMPLES_AND_LINES 6297 7600 number of columns and rows*
HORIZONTAL_DATUM NAD83 primary horizontal datum*
HORIZONTAL_COORDINATE_SYSTEM UTM *
COORDINATE_ZONE 11 coordinate system zone number*
HORIZONTAL_UNITS METERS coordinate system units*
HORIZONTAL_RESOLUTION 1.00 pixel horiz. ground sample distance*
SECONDARY_HORIZONTAL_DATUM NAD27 secondary horizontal datum*
XY_ORIGIN 410931.000 4130309.000 coord. of upper left pixel pri. datum*
SECONDARY_XY_ORIGIN 411011.015 4130111.815 coord upper left pixel sec datum*
NATION US nation code*
STATE CA state fip code*
NW_QUAD_CORNER_XY 411388.180 4130008.690 XY coords. of pri. NW quad corner*
NE_QUAD_CORNER_XY 416926.556 4129951.922 XY coords. of pri. NE quad corner*
SE_QUAD_CORNER_XY 416857.826 4123018.014 XY coords. of pri. SE quad corner*
SW_QUAD_CORNER_XY 411314.867 4123074.748 XY coords. of pri. SW quad corner*
SECONDARY_NW_QUAD_XY 411386.004 4129804.719 XY coords. - sec. NW quad cor.*
SECONDARY_NE_QUAD_XY 416924.515 4129747.950 XY coords. - sec. NE quad cor.*
SECONDARY_SE_QUAD_XY 416855.787 4122814.201 XY coords. - sec. SE quad cor.*
SECONDARY_SW_QUAD_XY 411312.693 4122870.936 XY coords. - sec. SW quad cor.*
RMSE_XY 3.00 doq horiz. accuracy*
IMAGE_SOURCE "BLACK AND WHITE FILM" b&w, cir, natural color, other*
SOURCE_IMAGE_ID "NAPP 6304 130" source image id*
SOURCE_IMAGE_DATE 1993 07 15 source image date as yyyy mm dd*
IMAGE_SOURCE "BLACK AND WHITE FILM" b&w, cir, natural color, other*
SOURCE_IMAGE_ID "NAPP 6304 129" source image id*
SOURCE_IMAGE_DATE 1993 07 15 source image date as yyyy mm dd*
IMAGE_SOURCE "BLACK AND WHITE FILM" b&w, cir, natural color, other*
SOURCE_IMAGE_ID "NAPP 6304 131" source image id*
SOURCE_IMAGE_DATE 1993 07 15 source image date as yyyy mm dd*
SOURCE_DEM_DATE 1987 00 00 source dem date yyyy mm dd*
AGENCY "WESTERN MAPPING CENTER (WMC)" oversight agency*
PRODUCER "SCIENCE APPLICATIONS INTERNATIONAL" producer/contractor*
PRODUCTION_SYSTEM "GIS/MAGIC" production system*
STANDARD_VERSION 1996 12 version of DOQ standard*
METADATA_DATE 1998 10 01 date created or changed, yyyy mm dd*
DATA_FILE_SIZE 47863497 data set size in bytes*
BYTE_COUNT 6297 header byte count* * * * * * * * * * * * * * * * * * * * * * * * * * * * * *
END_USGS_HEADER *
