BEGIN_USGS_DOQ_HEADER *
QUADRANGLE_NAME "STONEWALL PASS" *
QUADRANT SE *
WEST_LONGITUDE -117 11 15.0 *
EAST_LONGITUDE -117 7 30.0 *
NORTH_LATITUDE 37 26 15.0 *
SOUTH_LATITUDE 37 22 30.0 *
PRODUCTION_DATE 1998 10 21 *
RASTER_ORDER LEFT_RIGHT/TOP_BOTTOM *
BAND_ORGANIZATION "SINGLE FILE" *
BAND_CONTENT BLACK&WHITE *
BITS_PER_PIXEL 8 *
SAMPLES_AND_LINES 6241 7561 *
HORIZONTAL_DATUM NAD83 *
HORIZONTAL_COORDINATE_SYSTEM UTM *
COORDINATE_ZONE 11 *
HORIZONTAL_UNITS METERS *
HORIZONTAL_RESOLUTION 1.0 *
SECONDARY_HORIZONTAL_DATUM NAD27 *
XY_ORIGIN 483010.000 4143730.000 *
SECONDARY_XY_ORIGIN 483089.874 4143533.111 *
NATION US *
STATE NV *
NW_QUAD_CORNER_XY 483413.050 4143423.962 *
NE_QUAD_CORNER_XY 488942.036 4143414.796 *
SE_QUAD_CORNER_XY 488932.847 4136480.987 *
SW_QUAD_CORNER_XY 483399.266 4136490.147 *
SECONDARY_NW_QUAD_XY 483412.641 4143219.665 *
SECONDARY_NE_QUAD_XY 488941.764 4143210.499 *
SECONDARY_SE_QUAD_XY 488932.575 4136276.847 *
SECONDARY_SW_QUAD_XY 483398.857 4136286.007 *
RMSE_XY 3.986 *
IMAGE_SOURCE "Black and White film" *
SOURCE_IMAGE_ID "NAPP 7315-90" *
SOURCE_IMAGE_DATE 1994 05 30 *
SOURCE_IMAGE_ID "NAPP 7315-88" *
SOURCE_IMAGE_DATE 1994 05 30 *
SOURCE_DEM_DATE 1992 00 00 *
AGENCY "WESTERN MAPPING CENTER (WMC)" *
PRODUCER "Hammon, Jensen, Wallen & Associates" *
PRODUCTION_SYSTEM "ORTHOVIEW" *
STANDARD_VERSION 1996 12 *
METADATA_DATE 1998 10 21 *
DATA_FILE_SIZE 47194442 *
BYTE_COUNT 6241 * * * * * * * * * * * * * * * * * * * * * * * * * * * * * * * * *
END_USGS_HEADER *
