BEGIN_USGS_DOQ_HEADER *
QUADRANGLE_NAME "STONEWALL PASS" *
QUADRANT SW *
WEST_LONGITUDE -117 15 0.0 *
EAST_LONGITUDE -117 11 15.0 *
NORTH_LATITUDE 37 26 15.0 *
SOUTH_LATITUDE 37 22 30.0 *
PRODUCTION_DATE 1998 10 21 *
RASTER_ORDER LEFT_RIGHT/TOP_BOTTOM *
BAND_ORGANIZATION "SINGLE FILE" *
BAND_CONTENT BLACK&WHITE *
BITS_PER_PIXEL 8 *
SAMPLES_AND_LINES 6241 7561 *
HORIZONTAL_DATUM NAD83 *
HORIZONTAL_COORDINATE_SYSTEM UTM *
COORDINATE_ZONE 11 *
HORIZONTAL_UNITS METERS *
HORIZONTAL_RESOLUTION 1.0 *
SECONDARY_HORIZONTAL_DATUM NAD27 *
XY_ORIGIN 477480.000 4143740.000 *
SECONDARY_XY_ORIGIN 477559.852 4143543.110 *
NATION US *
STATE NV *
NW_QUAD_CORNER_XY 477884.058 4143436.794 *
NE_QUAD_CORNER_XY 483413.050 4143423.962 *
SE_QUAD_CORNER_XY 483399.266 4136490.147 *
SW_QUAD_CORNER_XY 477865.680 4136502.972 *
SECONDARY_NW_QUAD_XY 477883.513 4143232.497 *
SECONDARY_NE_QUAD_XY 483412.641 4143219.665 *
SECONDARY_SE_QUAD_XY 483398.857 4136286.007 *
SECONDARY_SW_QUAD_XY 477865.135 4136298.832 *
RMSE_XY 4.941 *
IMAGE_SOURCE "Black and White film" *
SOURCE_IMAGE_ID "NAPP 7315-198" *
SOURCE_IMAGE_DATE 1994 05 30 *
SOURCE_DEM_DATE 1992 00 00 *
AGENCY "WESTERN MAPPING CENTER (WMC)" *
PRODUCER "Hammon, Jensen, Wallen & Associates" *
PRODUCTION_SYSTEM "ORTHOVIEW" *
STANDARD_VERSION 1996 12 *
METADATA_DATE 1998 10 21 *
DATA_FILE_SIZE 47194442 *
BYTE_COUNT 6241 * * * * * * * * * * * * * * * * * * * * * * * * * * * * * * * * * * *
END_USGS_HEADER *
