BEGIN_USGS_DOQ_HEADER *
QUADRANGLE_NAME "MOUNT JACKSON" *
QUADRANT SW *
WEST_LONGITUDE -117 22 30.0 *
EAST_LONGITUDE -117 18 45.0 *
NORTH_LATITUDE 37 26 15.0 *
SOUTH_LATITUDE 37 22 30.0 *
PRODUCTION_DATE 1998 10 21 *
RASTER_ORDER LEFT_RIGHT/TOP_BOTTOM *
BAND_ORGANIZATION "SINGLE FILE" *
BAND_CONTENT BLACK&WHITE *
BITS_PER_PIXEL 8 *
SAMPLES_AND_LINES 6251 7571 *
HORIZONTAL_DATUM NAD83 *
HORIZONTAL_COORDINATE_SYSTEM UTM *
COORDINATE_ZONE 11 *
HORIZONTAL_UNITS METERS *
HORIZONTAL_RESOLUTION 1.0 *
SECONDARY_HORIZONTAL_DATUM NAD27 *
XY_ORIGIN 466410.000 4143780.000 *
SECONDARY_XY_ORIGIN 466489.902 4143583.002 *
NATION US *
STATE NV *
NW_QUAD_CORNER_XY 466826.053 4143473.458 *
NE_QUAD_CORNER_XY 472355.060 4143453.293 *
SE_QUAD_CORNER_XY 472332.086 4136519.461 *
SW_QUAD_CORNER_XY 466798.484 4136539.614 *
SECONDARY_NW_QUAD_XY 466825.235 4143269.162 *
SECONDARY_NE_QUAD_XY 472354.379 4143248.997 *
SECONDARY_SE_QUAD_XY 472331.406 4136315.322 *
SECONDARY_SW_QUAD_XY 466797.668 4136335.475 *
RMSE_XY 0.950 *
IMAGE_SOURCE "Black and White film" *
SOURCE_IMAGE_ID "NAPP 7321-97" *
SOURCE_IMAGE_DATE 1994 06 05 *
SOURCE_DEM_DATE 1998 01 01 *
AGENCY "WESTERN MAPPING CENTER (WMC)" *
PRODUCER "Hammon, Jensen, Wallen & Associates" *
PRODUCTION_SYSTEM "ORTHOVIEW" *
STANDARD_VERSION 1996 12 *
METADATA_DATE 1998 10 21 *
DATA_FILE_SIZE 47332572 *
BYTE_COUNT 6251 * * * * * * * * * * * * * * * * * * * * * * * * * * * * * * * * * * * *
END_USGS_HEADER *
