BEGIN_USGS_DOQ_HEADER *
QUADRANGLE_NAME "Magruder Mountain" 3.75 or 7.5-min. name*
QUADRANT SE quadrant indicator if cell size = 3.75-minutes*
WEST_LONGITUDE -117 33 45.000 signed deg min sec SDDD MM SS.SSS*
EAST_LONGITUDE -117 30 0.000 signed deg min sec SDDD MM SS.SSS*
NORTH_LATITUDE 37 26 15.000 signed deg min sec SDDD MM SS.SSS*
SOUTH_LATITUDE 37 22 30.000 signed deg min sec SDDD MM SS.SSS*
PRODUCTION_DATE 2001 6 28 yyyy mm dd*
RASTER_ORDER left_right/top_bottom video display order*
BAND_ORGANIZATION "single file" single file or BSQ, or BIL or BIP*
BAND_CONTENT BLACK&WHITE black&white or red green blue*
BITS_PER_PIXEL 8 radiometric resolution*
SAMPLES_AND_LINES 6252 7573 number of columns and rows*
HORIZONTAL_DATUM NAD83 primary horizontal datum*
HORIZONTAL_COORDINATE_SYSTEM UTM *
COORDINATE_ZONE 11 coordinate system zone number*
HORIZONTAL_UNITS meters coordinate system units*
HORIZONTAL_RESOLUTION 1.00 pixel horiz. ground sample distance*
SECONDARY_HORIZONTAL_DATUM NAD27 secondary horizontal datum*
XY_ORIGIN 449816.990 4143855.450 coord. of upper left pixel pri. datum*
SECONDARY_XY_ORIGIN 449896.977 4143658.299 coord upper left pixel sec datum*
NATION US nation code*
STATE NV state fip code*
NW_QUAD_CORNER_XY 450238.962 4143555.953 XY coords. of pri. NW quad corner*
NE_QUAD_CORNER_XY 455768.005 4143524.788 XY coords. of pri. NE quad corner*
SE_QUAD_CORNER_XY 455731.247 4136590.913 XY coords. of pri. SE quad corner*
SW_QUAD_CORNER_XY 450197.608 4136622.060 XY coords. of pri. SW quad corner*
SECONDARY_NW_QUAD_XY 450237.736 4143351.659 XY coords. - sec. NW quad cor.*
SECONDARY_NE_QUAD_XY 455766.915 4143320.494 XY coords. - sec. NE quad cor.*
SECONDARY_SE_QUAD_XY 455730.158 4136386.776 XY coords. - sec. SE quad cor.*
SECONDARY_SW_QUAD_XY 450196.383 4136417.923 XY coords. - sec. SW quad cor.*
RMSE_XY 2.18 doq horiz. accuracy*
IMAGE_SOURCE "BLACK AND WHITE FILM" b&w, cir, natural color, other*
SOURCE_IMAGE_ID "NAPP 11545 62" source image id*
SOURCE_IMAGE_DATE 1999 9 6 source image date as yyyy mm dd*
SOURCE_IMAGE_ID "NAPP 11545 60" source image id*
SOURCE_IMAGE_DATE 1999 9 6 source image date as yyyy mm dd*
SOURCE_IMAGE_ID "NAPP 11545 49" source image id*
SOURCE_IMAGE_DATE 1999 9 6 source image date as yyyy mm dd*
SOURCE_IMAGE_ID "NAPP 11545 47" source image id*
SOURCE_IMAGE_DATE 1999 9 6 source image date as yyyy mm dd*
SOURCE_DEM_DATE 1987 1 1 source dem date yyyy mm dd*
AGENCY "U.S. Geological Survey" oversight agency*
PRODUCER "Rocky Mountain Mapping Center (RMMC)" producer/contractor*
PRODUCTION_SYSTEM "ImageStation OrthoPro 02.02.01.08" production system*
STANDARD_VERSION 1996 12 version of DOQ standard*
METADATA_DATE 2001 6 28 date created or changed, yyyy mm dd*
DATA_FILE_SIZE 47352648 data set size in bytes*
BYTE_COUNT 6252 header byte count* * * * * * * * * * * * * * * * * * * * * * * * * * * * * *
END_USGS_HEADER *
