BEGIN_USGS_DOQ_HEADER *
QUADRANGLE_NAME "Chocolate Mountain" 3.75 or 7.5-min. name*
QUADRANT SW quadrant indicator if cell size = 3.75-minutes*
WEST_LONGITUDE -118 0 0.000 signed deg min sec SDDD MM SS.SSS*
EAST_LONGITUDE -117 56 15.000 signed deg min sec SDDD MM SS.SSS*
NORTH_LATITUDE 37 26 15.000 signed deg min sec SDDD MM SS.SSS*
SOUTH_LATITUDE 37 22 30.000 signed deg min sec SDDD MM SS.SSS*
PRODUCTION_DATE 2001 6 28 yyyy mm dd*
RASTER_ORDER left_right/top_bottom video display order*
BAND_ORGANIZATION "single file" single file or BSQ, or BIL or BIP*
BAND_CONTENT BLACK&WHITE black&white or red green blue*
BITS_PER_PIXEL 8 radiometric resolution*
SAMPLES_AND_LINES 6285 7598 number of columns and rows*
HORIZONTAL_DATUM NAD83 primary horizontal datum*
HORIZONTAL_COORDINATE_SYSTEM UTM *
COORDINATE_ZONE 11 coordinate system zone number*
HORIZONTAL_UNITS meters coordinate system units*
HORIZONTAL_RESOLUTION 1.00 pixel horiz. ground sample distance*
SECONDARY_HORIZONTAL_DATUM NAD27 secondary horizontal datum*
XY_ORIGIN 411079.880 4144176.290 coord. of upper left pixel pri. datum*
SECONDARY_XY_ORIGIN 411159.951 4143978.674 coord upper left pixel sec datum*
NATION US nation code*
STATE NV state fip code*
STATE CA state fip code*
NW_QUAD_CORNER_XY 411535.123 4143876.787 XY coords. of pri. NW quad corner*
NE_QUAD_CORNER_XY 417064.312 4143819.951 XY coords. of pri. NE quad corner*
SE_QUAD_CORNER_XY 416995.384 4136885.901 XY coords. of pri. SE quad corner*
SW_QUAD_CORNER_XY 411461.599 4136942.703 XY coords. of pri. SW quad corner*
SECONDARY_NW_QUAD_XY 411532.943 4143672.501 XY coords. - sec. NW quad cor.*
SECONDARY_NE_QUAD_XY 417062.269 4143615.664 XY coords. - sec. NE quad cor.*
SECONDARY_SE_QUAD_XY 416993.342 4136681.771 XY coords. - sec. SE quad cor.*
SECONDARY_SW_QUAD_XY 411459.421 4136738.574 XY coords. - sec. SW quad cor.*
RMSE_XY 1.90 doq horiz. accuracy*
IMAGE_SOURCE "BLACK AND WHITE FILM" b&w, cir, natural color, other*
SOURCE_IMAGE_ID "NAPP 10551 65 " source image id*
SOURCE_IMAGE_DATE 1998 8 22 source image date as yyyy mm dd*
SOURCE_IMAGE_ID "NAPP 10551 67" source image id*
SOURCE_IMAGE_DATE 1998 8 22 source image date as yyyy mm dd*
SOURCE_IMAGE_ID "NAPP 10551 8" source image id*
SOURCE_IMAGE_DATE 1998 8 22 source image date as yyyy mm dd*
SOURCE_IMAGE_ID "NAPP 10551 6" source image id*
SOURCE_IMAGE_DATE 1998 8 22 source image date as yyyy mm dd*
SOURCE_DEM_DATE 1987 1 1 source dem date yyyy mm dd*
AGENCY "U.S. Geological Survey" oversight agency*
PRODUCER "Rocky Mountain Mapping Center (RMMC)" producer/contractor*
PRODUCTION_SYSTEM "ImageStation OrthoPro 02.02.01.08" production system*
STANDARD_VERSION 1996 12 version of DOQ standard*
METADATA_DATE 2001 6 28 date created or changed, yyyy mm dd*
DATA_FILE_SIZE 47759715 data set size in bytes*
BYTE_COUNT 6285 header byte count* * * * * * * * * * * * * * * * * * * * * * * * * * * * *
END_USGS_HEADER *
