BEGIN_USGS_DOQ_HEADER *
QUADRANGLE_NAME "LIDA WASH" 3.45 or 7.5-min. name*
QUADRANT NW quadrant indicator if cell size = 3.75-minutes*
WEST_LONGITUDE -117 37 30.000 signed deg min sec SDDD MM SS.SSS*
EAST_LONGITUDE -117 33 45.000 signed deg min sec SDDD MM SS.SSS*
NORTH_LATITUDE 37 37 30.000 signed deg min sec SDDD MM SS.SSS*
SOUTH_LATITUDE 37 33 45.000 signed deg min sec SDDD MM SS.SSS*
PRODUCTION_DATE 2003 5 22 yyyy mm dd*
RASTER_ORDER LEFT_RIGHT/TOP_BOTTOM video display order*
BAND_ORGANIZATION "SINGLE FILE" single file or BSQ, or BIL or BIP*
BAND_CONTENT BLACK&WHITE black&white or red green blue*
BITS_PER_PIXEL 8 radiometric resolution*
SAMPLES_AND_LINES 6245 7579 number of columns and rows*
HORIZONTAL_DATUM NAD83 primary horizontal datum*
HORIZONTAL_COORDINATE_SYSTEM UTM *
COORDINATE_ZONE 11 coordinate system zone number*
HORIZONTAL_UNITS METERS coordinate system units*
HORIZONTAL_RESOLUTION 1.00 pixel horiz. ground sample distance*
SECONDARY_HORIZONTAL_DATUM NAD27 secondary horizontal datum*
XY_ORIGIN 444420.000 4164694.000 coord. of upper left pixel pri. datum*
SECONDARY_XY_ORIGIN 444500.000 4164497.000 coord upper left pixel sec datum*
NATION US nation code*
STATE NV state fip code*
NW_QUAD_CORNER_XY 444848.144 4164392.963 XY coords. of pri. NW quad corner*
NE_QUAD_CORNER_XY 450363.378 4164358.070 XY coords. of pri. NE quad corner*
SE_QUAD_CORNER_XY 450321.847 4157423.958 XY coords. of pri. SE quad corner*
SW_QUAD_CORNER_XY 444801.998 4157458.831 XY coords. of pri. SW quad corner*
SECONDARY_NW_QUAD_XY 444846.779 4164188.203 XY coords. - sec. NW quad cor.*
SECONDARY_NE_QUAD_XY 450362.149 4164153.309 XY coords. - sec. NE quad cor.*
SECONDARY_SE_QUAD_XY 450320.619 4157219.352 XY coords. - sec. SE quad cor.*
SECONDARY_SW_QUAD_XY 444800.633 4157254.226 XY coords. - sec. SW quad cor.*
RMSE_XY 0.30 doq horiz. accuracy*
IMAGE_SOURCE "BLACK AND WHITE FILM" b&w, cir, natural color, other*
SOURCE_IMAGE_ID "NAPP 11545 043" source image id*
SOURCE_IMAGE_DATE 1999 9 6 source image date as yyyy mm dd*
SOURCE_DEM_DATE 1958 1 1 source dem date yyyy mm dd*
AGENCY "WESTERN MAPPING CENTER (WMC)" oversight agency*
PRODUCER "WESTERN MAPPING CENTER (WMC)" *
PRODUCTION_SYSTEM "DV2.6.4 1/00 OV2.6 6/00" production system*
STANDARD_VERSION 1996 12 version of DOQ standard*
METADATA_DATE 2003 5 22 date created or changed, yyyy mm dd*
DATA_FILE_SIZE 47337100 data set size in bytes*
BYTE_COUNT 6245 header byte count* * * * * * * * * * * * * * * * * * * * * * * * * * * * * * * * * * * *
END_USGS_HEADER *
