BEGIN_USGS_DOQ_HEADER *
QUADRANGLE_NAME "MOHAWK MINE" 3.45 or 7.5-min. name*
QUADRANT SW quadrant indicator if cell size = 3.75-minutes*
WEST_LONGITUDE -117 52 30.000 signed deg min sec SDDD MM SS.SSS*
EAST_LONGITUDE -117 48 45.000 signed deg min sec SDDD MM SS.SSS*
NORTH_LATITUDE 37 41 15.000 signed deg min sec SDDD MM SS.SSS*
SOUTH_LATITUDE 37 37 30.000 signed deg min sec SDDD MM SS.SSS*
PRODUCTION_DATE 2003 4 22 yyyy mm dd*
RASTER_ORDER LEFT_RIGHT/TOP_BOTTOM video display order*
BAND_ORGANIZATION "SINGLE FILE" single file or BSQ, or BIL or BIP*
BAND_CONTENT BLACK&WHITE black&white or red green blue*
BITS_PER_PIXEL 8 radiometric resolution*
SAMPLES_AND_LINES 6260 7594 number of columns and rows*
HORIZONTAL_DATUM NAD83 primary horizontal datum*
HORIZONTAL_COORDINATE_SYSTEM UTM *
COORDINATE_ZONE 11 coordinate system zone number*
HORIZONTAL_UNITS METERS coordinate system units*
HORIZONTAL_RESOLUTION 1.00 pixel horiz. ground sample distance*
SECONDARY_HORIZONTAL_DATUM NAD27 secondary horizontal datum*
XY_ORIGIN 422404.000 4171805.000 coord. of upper left pixel pri. datum*
SECONDARY_XY_ORIGIN 422484.000 4171608.000 coord upper left pixel sec datum*
NATION US nation code*
STATE NV state fip code*
NW_QUAD_CORNER_XY 422851.725 4171503.577 XY coords. of pri. NW quad corner*
NE_QUAD_CORNER_XY 428362.414 4171453.961 XY coords. of pri. NE quad corner*
SE_QUAD_CORNER_XY 428302.335 4164519.683 XY coords. of pri. SE quad corner*
SW_QUAD_CORNER_XY 422787.024 4164569.271 XY coords. of pri. SW quad corner*
SECONDARY_NW_QUAD_XY 422849.812 4171298.667 XY coords. - sec. NW quad cor.*
SECONDARY_NE_QUAD_XY 428360.637 4171249.050 XY coords. - sec. NE quad cor.*
SECONDARY_SE_QUAD_XY 428300.560 4164314.926 XY coords. - sec. SE quad cor.*
SECONDARY_SW_QUAD_XY 422785.112 4164364.515 XY coords. - sec. SW quad cor.*
RMSE_XY 2.20 doq horiz. accuracy*
IMAGE_SOURCE "BLACK AND WHITE FILM" b&w, cir, natural color, other*
SOURCE_IMAGE_ID "NAPP 11545 218" source image id*
SOURCE_IMAGE_DATE 1999 9 6 source image date as yyyy mm dd*
SOURCE_DEM_DATE 1958 0 0 source dem date yyyy mm dd*
AGENCY "WESTERN MAPPING CENTER (WMC)" oversight agency*
PRODUCER "WESTERN MAPPING CENTER (WMC)" *
PRODUCTION_SYSTEM "DV2.6.4 1/00 OV2.6 6/00" production system*
STANDARD_VERSION 1996 12 version of DOQ standard*
METADATA_DATE 2003 4 22 date created or changed, yyyy mm dd*
DATA_FILE_SIZE 47544700 data set size in bytes*
BYTE_COUNT 6260 header byte count* * * * * * * * * * * * * * * * * * * * * * * * * * * * * * * * * * * *
END_USGS_HEADER *
