BEGIN_USGS_DOQ_HEADER *
QUADRANGLE_NAME "PIPER PEAK" 3.45 or 7.5-min. name*
QUADRANT SW quadrant indicator if cell size = 3.75-minutes*
WEST_LONGITUDE -118 0 0.000 signed deg min sec SDDD MM SS.SSS*
EAST_LONGITUDE -117 56 15.000 signed deg min sec SDDD MM SS.SSS*
NORTH_LATITUDE 37 41 15.000 signed deg min sec SDDD MM SS.SSS*
SOUTH_LATITUDE 37 37 30.000 signed deg min sec SDDD MM SS.SSS*
PRODUCTION_DATE 2003 4 23 yyyy mm dd*
RASTER_ORDER LEFT_RIGHT/TOP_BOTTOM video display order*
BAND_ORGANIZATION "SINGLE FILE" single file or BSQ, or BIL or BIP*
BAND_CONTENT BLACK&WHITE black&white or red green blue*
BITS_PER_PIXEL 8 radiometric resolution*
SAMPLES_AND_LINES 6270 7601 number of columns and rows*
HORIZONTAL_DATUM NAD83 primary horizontal datum*
HORIZONTAL_COORDINATE_SYSTEM UTM *
COORDINATE_ZONE 11 coordinate system zone number*
HORIZONTAL_UNITS METERS coordinate system units*
HORIZONTAL_RESOLUTION 1.00 pixel horiz. ground sample distance*
SECONDARY_HORIZONTAL_DATUM NAD27 secondary horizontal datum*
XY_ORIGIN 411373.000 4171915.000 coord. of upper left pixel pri. datum*
SECONDARY_XY_ORIGIN 411453.339 4171716.883 coord upper left pixel sec datum*
NATION US nation code*
STATE NV state fip code*
NW_QUAD_CORNER_XY 411830.275 4171613.837 XY coords. of pri. NW quad corner*
NE_QUAD_CORNER_XY 417341.012 4171556.869 XY coords. of pri. NE quad corner*
SE_QUAD_CORNER_XY 417271.689 4164622.532 XY coords. of pri. SE quad corner*
SW_QUAD_CORNER_XY 411756.329 4164679.468 XY coords. of pri. SW quad corner*
SECONDARY_NW_QUAD_XY 411828.088 4171408.931 XY coords. - sec. NW quad cor.*
SECONDARY_NE_QUAD_XY 417338.962 4171351.961 XY coords. - sec. NE quad cor.*
SECONDARY_SE_QUAD_XY 417269.641 4164417.778 XY coords. - sec. SE quad cor.*
SECONDARY_SW_QUAD_XY 411754.144 4164474.715 XY coords. - sec. SW quad cor.*
RMSE_XY 1.40 doq horiz. accuracy*
IMAGE_SOURCE "BLACK AND WHITE FILM" b&w, cir, natural color, other*
SOURCE_IMAGE_ID "NAPP 11559 015" source image id*
SOURCE_IMAGE_DATE 1999 9 14 source image date as yyyy mm dd*
SOURCE_DEM_DATE 1958 0 0 source dem date yyyy mm dd*
AGENCY "WESTERN MAPPING CENTER (WMC)" oversight agency*
PRODUCER "WESTERN MAPPING CENTER (WMC)" *
PRODUCTION_SYSTEM "DV2.6.4 1/00 OV2.6 6/00" production system*
STANDARD_VERSION 1996 12 version of DOQ standard*
METADATA_DATE 2003 4 23 date created or changed, yyyy mm dd*
DATA_FILE_SIZE 47664540 data set size in bytes*
BYTE_COUNT 6270 header byte count* * * * * * * * * * * * * * * * * * * * * * * * * * * * * * * * * * * *
END_USGS_HEADER *
