BEGIN_USGS_DOQ_HEADER *
QUADRANGLE_NAME "FISH SPRINGS" 3.45 or 7.5-min. name*
QUADRANT NE quadrant indicator if cell size = 3.75-minutes*
WEST_LONGITUDE -118 18 45.000 signed deg min sec SDDD MM SS.SSS*
EAST_LONGITUDE -118 15 0.000 signed deg min sec SDDD MM SS.SSS*
NORTH_LATITUDE 37 7 30.000 signed deg min sec SDDD MM SS.SSS*
SOUTH_LATITUDE 37 3 45.000 signed deg min sec SDDD MM SS.SSS*
PRODUCTION_DATE 1998 4 15 yyyy mm dd*
RASTER_ORDER LEFT_RIGHT/TOP_BOTTOM video display order*
BAND_ORGANIZATION BIP single file or BSQ, or BIL or BIP*
BAND_CONTENT RED black&white or red green blue*
BAND_CONTENT GREEN black&white or red green blue*
BAND_CONTENT BLUE black&white or red green blue*
BITS_PER_PIXEL 8 radiometric resolution*
SAMPLES_AND_LINES 6334 7618 number of columns and rows*
HORIZONTAL_DATUM NAD83 primary horizontal datum*
HORIZONTAL_COORDINATE_SYSTEM UTM *
COORDINATE_ZONE 11 coordinate system zone number*
HORIZONTAL_UNITS METERS coordinate system units*
HORIZONTAL_RESOLUTION 1.00 pixel horiz. ground sample distance*
SECONDARY_HORIZONTAL_DATUM NAD27 secondary horizontal datum*
XY_ORIGIN 382927.000 4109846.000 coord. of upper left pixel pri. datum*
SECONDARY_XY_ORIGIN 383007.300 4109648.940 coord upper left pixel sec datum*
NATION US nation code*
STATE CA state fip code*
NW_QUAD_CORNER_XY 383407.560 4109545.250 XY coords. of pri. NW quad corner*
NE_QUAD_CORNER_XY 388959.830 4109470.300 XY coords. of pri. NE quad corner*
SE_QUAD_CORNER_XY 388868.580 4102536.410 XY coords. of pri. SE quad corner*
SW_QUAD_CORNER_XY 383311.750 4102611.310 XY coords. of pri. SW quad corner*
SECONDARY_NW_QUAD_XY 383404.710 4109341.770 XY coords. - sec. NW quad cor.*
SECONDARY_NE_QUAD_XY 388957.120 4109266.820 XY coords. - sec. NE quad cor.*
SECONDARY_SE_QUAD_XY 388865.870 4102333.090 XY coords. - sec. SE quad cor.*
SECONDARY_SW_QUAD_XY 383308.900 4102407.990 XY coords. - sec. SW quad cor.*
RMSE_XY 2.10 doq horiz. accuracy*
IMAGE_SOURCE "COLOR INFRA-RED FILM" b&w, cir, natural color, other*
SOURCE_IMAGE_ID "NAPP 482 012" source image id*
SOURCE_IMAGE_DATE 1987 7 5 source image date as yyyy mm dd*
SOURCE_DEM_DATE 1998 4 15 source dem date yyyy mm dd*
AGENCY "WESTERN MAPPING CENTER (WMC)" oversight agency*
PRODUCER "SCIENCE APPLICATIONS INTERNATIONAL" *
PRODUCTION_SYSTEM "GIS/MAGIC" production system*
STANDARD_VERSION 1996 12 version of DOQ standard*
METADATA_DATE 1998 6 11 date created or changed, yyyy mm dd*
DATA_FILE_SIZE 144776238 data set size in bytes*
BYTE_COUNT 19002 header byte count* * * * * * * * * * * * * * * * * * * * * * * * * * * * * * * * * * * * * * * * * * * * * * * * * * * * * * * * * * * * * * * * * * * * * * * * * * * * * * * * * * * * * * * * * * * * * * * * * * * * * * * * * * * * * * * * * * * * * * * * * * * * * * * * * * * * * * * * * * * * * * * * * * * * * * * * * * * * * * * * * * * * * * * * * * * * * * * * * * * * * * * * * * * * * * * * *
END_USGS_HEADER *
