BEGIN_USGS_DOQ_HEADER *
QUADRANGLE_NAME "BIG PINE" 3.45 or 7.5-min. name*
QUADRANT NE quadrant indicator if cell size = 3.75-minutes*
WEST_LONGITUDE -118 18 45.000 signed deg min sec SDDD MM SS.SSS*
EAST_LONGITUDE -118 15 0.000 signed deg min sec SDDD MM SS.SSS*
NORTH_LATITUDE 37 15 0.000 signed deg min sec SDDD MM SS.SSS*
SOUTH_LATITUDE 37 11 15.000 signed deg min sec SDDD MM SS.SSS*
PRODUCTION_DATE 1998 4 15 yyyy mm dd*
RASTER_ORDER LEFT_RIGHT/TOP_BOTTOM video display order*
BAND_ORGANIZATION BIP single file or BSQ, or BIL or BIP*
BAND_CONTENT RED black&white or red green blue*
BAND_CONTENT GREEN black&white or red green blue*
BAND_CONTENT BLUE black&white or red green blue*
BITS_PER_PIXEL 8 radiometric resolution*
SAMPLES_AND_LINES 6325 7619 number of columns and rows*
HORIZONTAL_DATUM NAD83 primary horizontal datum*
HORIZONTAL_COORDINATE_SYSTEM UTM *
COORDINATE_ZONE 11 coordinate system zone number*
HORIZONTAL_UNITS METERS coordinate system units*
HORIZONTAL_RESOLUTION 1.00 pixel horiz. ground sample distance*
SECONDARY_HORIZONTAL_DATUM NAD27 secondary horizontal datum*
XY_ORIGIN 383119.000 4123714.000 coord. of upper left pixel pri. datum*
SECONDARY_XY_ORIGIN 383199.360 4123516.930 coord upper left pixel sec datum*
NATION US nation code*
STATE CA state fip code*
NW_QUAD_CORNER_XY 383599.610 4123413.340 XY coords. of pri. NW quad corner*
NE_QUAD_CORNER_XY 389142.730 4123338.300 XY coords. of pri. NE quad corner*
SE_QUAD_CORNER_XY 389051.210 4116404.260 XY coords. of pri. SE quad corner*
SW_QUAD_CORNER_XY 383503.520 4116479.260 XY coords. of pri. SW quad corner*
SECONDARY_NW_QUAD_XY 383596.760 4123209.540 XY coords. - sec. NW quad cor.*
SECONDARY_NE_QUAD_XY 389140.010 4123134.490 XY coords. - sec. NE quad cor.*
SECONDARY_SE_QUAD_XY 389048.500 4116200.620 XY coords. - sec. SE quad cor.*
SECONDARY_SW_QUAD_XY 383500.660 4116275.620 XY coords. - sec. SW quad cor.*
RMSE_XY 2.30 doq horiz. accuracy*
IMAGE_SOURCE "COLOR INFRA-RED FILM" b&w, cir, natural color, other*
SOURCE_IMAGE_ID "NAPP 482 016" source image id*
SOURCE_IMAGE_DATE 1987 7 5 source image date as yyyy mm dd*
IMAGE_SOURCE "COLOR INFRA-RED FILM" b&w, cir, natural color, other*
SOURCE_IMAGE_ID "NAPP 482 101" source image id*
SOURCE_IMAGE_DATE 1987 7 5 source image date as yyyy mm dd*
SOURCE_DEM_DATE 1998 4 15 source dem date yyyy mm dd*
AGENCY "WESTERN MAPPING CENTER (WMC)" oversight agency*
PRODUCER "SCIENCE APPLICATIONS INTERNATIONAL" *
PRODUCTION_SYSTEM "GIS/MAGIC" production system*
STANDARD_VERSION 1996 12 version of DOQ standard*
METADATA_DATE 1998 6 9 date created or changed, yyyy mm dd*
DATA_FILE_SIZE 144589500 data set size in bytes*
BYTE_COUNT 18975 header byte count* * * * * * * * * * * * * * * * * * * * * * * * * * * * * * * * * * * * * * * * * * * * * * * * * * * * * * * * * * * * * * * * * * * * * * * * * * * * * * * * * * * * * * * * * * * * * * * * * * * * * * * * * * * * * * * * * * * * * * * * * * * * * * * * * * * * * * * * * * * * * * * * * * * * * * * * * * * * * * * * * * * * * * * * * * * * * * * * * * * * * * * * * * * * * *
END_USGS_HEADER *
