BEGIN_USGS_DOQ_HEADER *
QUADRANGLE_NAME "NORTH PALISADE" *
QUADRANT SE *
WEST_LONGITUDE -118 33 45.000 *
EAST_LONGITUDE -118 30 0.000 *
NORTH_LATITUDE 37 3 45.000 *
SOUTH_LATITUDE 37 0 0.000 *
PRODUCTION_DATE 2001 12 19 *
RASTER_ORDER LEFT_RIGHT/TOP_BOTTOM *
BAND_ORGANIZATION "SINGLE FILE" *
BAND_CONTENT BLACK&WHITE *
BITS_PER_PIXEL 8 *
SAMPLES_AND_LINES 6354 7629 *
HORIZONTAL_DATUM NAD83 *
HORIZONTAL_COORDINATE_SYSTEM UTM *
COORDINATE_ZONE 11 *
HORIZONTAL_UNITS METERS *
HORIZONTAL_RESOLUTION 1.0 *
SECONDARY_HORIZONTAL_DATUM NAD27 *
XY_ORIGIN 360586.765 4103247.489 *
SECONDARY_XY_ORIGIN 360666.885 4103049.965 *
NATION US *
STATE CA *
NW_QUAD_CORNER_XY 361084.012 4102947.489 *
NE_QUAD_CORNER_XY 366641.009 4102857.961 *
SE_QUAD_CORNER_XY 366531.656 4095923.937 *
SW_QUAD_CORNER_XY 360970.099 4096013.409 *
SECONDARY_NW_QUAD_XY 361080.622 4102744.173 *
SECONDARY_NE_QUAD_XY 366637.755 4102654.643 *
SECONDARY_SE_QUAD_XY 366528.405 4095720.782 *
SECONDARY_SW_QUAD_XY 360966.713 4095810.256 *
RMSE_XY 1.47 *
IMAGE_SOURCE "BLACK AND WHITE FILM" *
SOURCE_IMAGE_ID "NAPP 10567 195" *
SOURCE_IMAGE_DATE 1999 8 1 *
SOURCE_IMAGE_ID "NAPP 10567 196" *
SOURCE_IMAGE_DATE 1999 8 1 *
SOURCE_IMAGE_ID "NAPP 10567 194" *
SOURCE_IMAGE_DATE 1999 8 1 *
SOURCE_IMAGE_ID "NAPP 10569 237" *
SOURCE_IMAGE_DATE 1999 8 8 *
SOURCE_IMAGE_ID "NAPP 10569 238" *
SOURCE_IMAGE_DATE 1999 8 8 *
SOURCE_IMAGE_ID "NAPP 10569 239" *
SOURCE_IMAGE_DATE 1999 8 8 *
SOURCE_IMAGE_ID "NAPP 10559 116" *
SOURCE_IMAGE_DATE 1998 9 12 *
SOURCE_IMAGE_ID "NAPP 10559 117" *
SOURCE_IMAGE_DATE 1998 9 12 *
SOURCE_IMAGE_ID "NAPP 10559 118" *
SOURCE_IMAGE_DATE 1998 9 12 *
SOURCE_DEM_DATE 2000 0 0 *
AGENCY "WESTERN MAPPING CENTER (WMC)" *
PRODUCER "USDA FS GEOSPATIAL SERVICE AND TECHNOLOGY CENTER" *
PRODUCTION_SYSTEM "ORBIT OR_RECTIFY V.5.2" *
STANDARD_VERSION 1996 12 *
METADATA_DATE 2001 12 31 *
DATA_FILE_SIZE 48481020 *
BYTE_COUNT 6354 * * * * * * * * * * * * * * * * * * * * *
END_USGS_HEADER *
