BEGIN_USGS_DOQ_HEADER *
QUADRANGLE_NAME "MOUNT GODDARD" 3.45 or 7.5-min. name*
QUADRANT NE quadrant indicator if cell size = 3.75-minutes*
WEST_LONGITUDE -118 41 15.000 signed deg min sec SDDD MM SS.SSS*
EAST_LONGITUDE -118 37 30.000 signed deg min sec SDDD MM SS.SSS*
NORTH_LATITUDE 37 7 30.000 signed deg min sec SDDD MM SS.SSS*
SOUTH_LATITUDE 37 3 45.000 signed deg min sec SDDD MM SS.SSS*
PRODUCTION_DATE 1998 5 18 yyyy mm dd*
RASTER_ORDER LEFT_RIGHT/TOP_BOTTOM video display order*
BAND_ORGANIZATION "SINGLE FILE" single file or BSQ, or BIL or BIP*
BAND_CONTENT BLACK&WHITE black&white or red green blue*
BITS_PER_PIXEL 8 radiometric resolution*
SAMPLES_AND_LINES 6362 7639 number of columns and rows*
HORIZONTAL_DATUM NAD83 primary horizontal datum*
HORIZONTAL_COORDINATE_SYSTEM UTM *
COORDINATE_ZONE 11 coordinate system zone number*
HORIZONTAL_UNITS METERS coordinate system units*
HORIZONTAL_RESOLUTION 1.00 pixel horiz. ground sample distance*
SECONDARY_HORIZONTAL_DATUM NAD27 secondary horizontal datum*
XY_ORIGIN 349585.000 4110372.000 coord. of upper left pixel pri. datum*
SECONDARY_XY_ORIGIN 349665.167 4110174.064 coord upper left pixel sec datum*
NATION US nation code*
STATE CA state fip code*
NW_QUAD_CORNER_XY 350093.091 4110071.781 XY coords. of pri. NW quad corner*
NE_QUAD_CORNER_XY 355645.614 4109974.878 XY coords. of pri. NE quad corner*
SE_QUAD_CORNER_XY 355526.969 4103040.673 XY coords. of pri. SE quad corner*
SW_QUAD_CORNER_XY 349969.879 4103137.515 XY coords. of pri. SW quad corner*
SECONDARY_NW_QUAD_XY 350089.426 4109868.310 XY coords. - sec. NW quad cor.*
SECONDARY_NE_QUAD_XY 355642.085 4109771.406 XY coords. - sec. NE quad cor.*
SECONDARY_SE_QUAD_XY 355523.443 4102837.362 XY coords. - sec. SE quad cor.*
SECONDARY_SW_QUAD_XY 349966.217 4102934.206 XY coords. - sec. SW quad cor.*
RMSE_XY 2.80 doq horiz. accuracy*
IMAGE_SOURCE "BLACK AND WHITE FILM" b&w, cir, natural color, other*
SOURCE_IMAGE_ID "NAPP 6319 082" source image id*
SOURCE_IMAGE_DATE 1995 10 08 source image date as yyyy mm dd*
IMAGE_SOURCE "BLACK AND WHITE FILM" b&w, cir, natural color, other*
SOURCE_IMAGE_ID "NAPP 6313 227" source image id*
SOURCE_IMAGE_DATE 1993 09 28 source image date as yyyy mm dd*
SOURCE_DEM_DATE 1997 01 01 source dem date yyyy mm dd*
AGENCY "WESTERN MAPPING CENTER (WMC)" oversight agency*
PRODUCER "SCIENCE APPLICATIONS INTERNATIONAL" producer/contractor*
PRODUCTION_SYSTEM "GIS/MAGIC" production system*
STANDARD_VERSION 1996 12 version of DOQ standard*
METADATA_DATE 1998 07 02 date created or changed, yyyy mm dd*
DATA_FILE_SIZE 48605680 data set size in bytes*
BYTE_COUNT 6362 header byte count* * * * * * * * * * * * * * * * * * * * * * * * * * * * * * * * * *
END_USGS_HEADER *
