BEGIN_USGS_DOQ_HEADER *
QUADRANGLE_NAME "UHLMEYER SPRING" *
QUADRANT SW *
WEST_LONGITUDE -118 15 0.000 *
EAST_LONGITUDE -118 11 15.000 *
NORTH_LATITUDE 37 11 15.000 *
SOUTH_LATITUDE 37 7 30.000 *
PRODUCTION_DATE 2001 12 20 *
RASTER_ORDER LEFT_RIGHT/TOP_BOTTOM *
BAND_ORGANIZATION "SINGLE FILE" *
BAND_CONTENT BLACK&WHITE *
BITS_PER_PIXEL 8 *
SAMPLES_AND_LINES 6322 7612 *
HORIZONTAL_DATUM NAD83 *
HORIZONTAL_COORDINATE_SYSTEM UTM *
COORDINATE_ZONE 11 *
HORIZONTAL_UNITS METERS *
HORIZONTAL_RESOLUTION 1.0 *
SECONDARY_HORIZONTAL_DATUM NAD27 *
XY_ORIGIN 388576.811 4116704.265 *
SECONDARY_XY_ORIGIN 388657.100 4116507.290 *
NATION US *
STATE CA *
NW_QUAD_CORNER_XY 389051.214 4116404.265 *
NE_QUAD_CORNER_XY 394598.875 4116332.928 *
SE_QUAD_CORNER_XY 394512.062 4109399.011 *
SW_QUAD_CORNER_XY 388959.830 4109470.303 *
SECONDARY_NW_QUAD_XY 389048.500 4116200.619 *
SECONDARY_NE_QUAD_XY 394596.297 4116129.281 *
SECONDARY_SE_QUAD_XY 394509.487 4109195.523 *
SECONDARY_SW_QUAD_XY 388957.118 4109266.817 *
RMSE_XY 1.68 *
IMAGE_SOURCE "BLACK AND WHITE FILM" *
SOURCE_IMAGE_ID "NAPP 10553 190" *
SOURCE_IMAGE_DATE 1998 8 23 *
SOURCE_IMAGE_ID "NAPP 10553 189" *
SOURCE_IMAGE_DATE 1998 8 23 *
SOURCE_IMAGE_ID "NAPP 10553 191" *
SOURCE_IMAGE_DATE 1998 8 23 *
SOURCE_IMAGE_ID "NAPP 10567 57" *
SOURCE_IMAGE_DATE 1999 7 31 *
SOURCE_IMAGE_ID "NAPP 10553 226" *
SOURCE_IMAGE_DATE 1998 8 23 *
SOURCE_IMAGE_ID "NAPP 10553 225" *
SOURCE_IMAGE_DATE 1998 8 23 *
SOURCE_IMAGE_ID "NAPP 10569 139" *
SOURCE_IMAGE_DATE 1999 8 8 *
SOURCE_IMAGE_ID "NAPP 10569 138" *
SOURCE_IMAGE_DATE 1999 8 8 *
SOURCE_IMAGE_ID "NAPP 10569 137" *
SOURCE_IMAGE_DATE 1999 8 8 *
SOURCE_DEM_DATE 2000 0 0 *
AGENCY "WESTERN MAPPING CENTER (WMC)" *
PRODUCER "USDA FS GEOSPATIAL SERVICE AND TECHNOLOGY CENTER" *
PRODUCTION_SYSTEM "ORBIT OR_RECTIFY V.5.2" *
STANDARD_VERSION 1996 12 *
METADATA_DATE 2001 12 31 *
DATA_FILE_SIZE 48129386 *
BYTE_COUNT 6322 * * * * * * * * * * * * * * * * * * * * *
END_USGS_HEADER *
