BEGIN_USGS_DOQ_HEADER *
QUADRANGLE_NAME "BIG PINE" *
QUADRANT NE *
WEST_LONGITUDE -118 18 45.000 *
EAST_LONGITUDE -118 15 0.000 *
NORTH_LATITUDE 37 15 0.000 *
SOUTH_LATITUDE 37 11 15.000 *
PRODUCTION_DATE 2001 12 20 *
RASTER_ORDER LEFT_RIGHT/TOP_BOTTOM *
BAND_ORGANIZATION "SINGLE FILE" *
BAND_CONTENT BLACK&WHITE *
BITS_PER_PIXEL 8 *
SAMPLES_AND_LINES 6322 7616 *
HORIZONTAL_DATUM NAD83 *
HORIZONTAL_COORDINATE_SYSTEM UTM *
COORDINATE_ZONE 11 *
HORIZONTAL_UNITS METERS *
HORIZONTAL_RESOLUTION 1.0 *
SECONDARY_HORIZONTAL_DATUM NAD27 *
XY_ORIGIN 383120.323 4123713.338 *
SECONDARY_XY_ORIGIN 383200.703 4123516.265 *
NATION US *
STATE CA *
NW_QUAD_CORNER_XY 383599.611 4123413.338 *
NE_QUAD_CORNER_XY 389142.730 4123338.296 *
SE_QUAD_CORNER_XY 389051.214 4116404.265 *
SW_QUAD_CORNER_XY 383503.517 4116479.261 *
SECONDARY_NW_QUAD_XY 383596.760 4123209.535 *
SECONDARY_NE_QUAD_XY 389140.015 4123134.491 *
SECONDARY_SE_QUAD_XY 389048.500 4116200.619 *
SECONDARY_SW_QUAD_XY 383500.667 4116275.617 *
RMSE_XY 1.68 *
IMAGE_SOURCE "BLACK AND WHITE FILM" *
SOURCE_IMAGE_ID "NAPP 10553 224" *
SOURCE_IMAGE_DATE 1998 8 23 *
SOURCE_IMAGE_ID "NAPP 10553 225" *
SOURCE_IMAGE_DATE 1998 8 23 *
SOURCE_IMAGE_ID "NAPP 10553 223" *
SOURCE_IMAGE_DATE 1998 8 23 *
SOURCE_IMAGE_ID "NAPP 10553 200" *
SOURCE_IMAGE_DATE 1998 8 23 *
SOURCE_IMAGE_ID "NAPP 10553 201" *
SOURCE_IMAGE_DATE 1998 8 23 *
SOURCE_IMAGE_ID "NAPP 10553 202" *
SOURCE_IMAGE_DATE 1998 8 23 *
SOURCE_IMAGE_ID "NAPP 10553 191" *
SOURCE_IMAGE_DATE 1998 8 23 *
SOURCE_IMAGE_ID "NAPP 10553 192" *
SOURCE_IMAGE_DATE 1998 8 23 *
SOURCE_IMAGE_ID "NAPP 10569 246" *
SOURCE_IMAGE_DATE 1999 8 8 *
SOURCE_DEM_DATE 2000 0 0 *
AGENCY "WESTERN MAPPING CENTER (WMC)" *
PRODUCER "USDA FS GEOSPATIAL SERVICE AND TECHNOLOGY CENTER" *
PRODUCTION_SYSTEM "ORBIT OR_RECTIFY V.5.2" *
STANDARD_VERSION 1996 12 *
METADATA_DATE 2001 12 31 *
DATA_FILE_SIZE 48154674 *
BYTE_COUNT 6322 * * * * * * * * * * * * * * * * * * * * *
END_USGS_HEADER *
