BEGIN_USGS_DOQ_HEADER *
QUADRANGLE_NAME "MOUNT THOMPSON" 3.45 or 7.5-min. name*
QUADRANT SW quadrant indicator if cell size = 3.75-minutes*
WEST_LONGITUDE -118 37 30.000 signed deg min sec SDDD MM SS.SSS*
EAST_LONGITUDE -118 33 45.000 signed deg min sec SDDD MM SS.SSS*
NORTH_LATITUDE 37 11 15.000 signed deg min sec SDDD MM SS.SSS*
SOUTH_LATITUDE 37 7 30.000 signed deg min sec SDDD MM SS.SSS*
PRODUCTION_DATE 1998 5 18 yyyy mm dd*
RASTER_ORDER LEFT_RIGHT/TOP_BOTTOM video display order*
BAND_ORGANIZATION "SINGLE FILE" single file or BSQ, or BIL or BIP*
BAND_CONTENT BLACK&WHITE black&white or red green blue*
BITS_PER_PIXEL 8 radiometric resolution*
SAMPLES_AND_LINES 6354 7637 number of columns and rows*
HORIZONTAL_DATUM NAD83 primary horizontal datum*
HORIZONTAL_COORDINATE_SYSTEM UTM *
COORDINATE_ZONE 11 coordinate system zone number*
HORIZONTAL_UNITS METERS coordinate system units*
HORIZONTAL_RESOLUTION 1.00 pixel horiz. ground sample distance*
SECONDARY_HORIZONTAL_DATUM NAD27 secondary horizontal datum*
XY_ORIGIN 355260.000 4117210.000 coord. of upper left pixel pri. datum*
SECONDARY_XY_ORIGIN 355340.393 4117012.235 coord upper left pixel sec datum*
NATION US nation code*
STATE CA state fip code*
NW_QUAD_CORNER_XY 355764.431 4116909.151 XY coords. of pri. NW quad corner*
NE_QUAD_CORNER_XY 361312.335 4116815.851 XY coords. of pri. NE quad corner*
SE_QUAD_CORNER_XY 361198.091 4109881.636 XY coords. of pri. SE quad corner*
SW_QUAD_CORNER_XY 355645.614 4109974.878 XY coords. of pri. SW quad corner*
SECONDARY_NW_QUAD_XY 355760.899 4116705.518 XY coords. - sec. NW quad cor.*
SECONDARY_NE_QUAD_XY 361308.939 4116612.215 XY coords. - sec. NE quad cor.*
SECONDARY_SE_QUAD_XY 361194.697 4109678.161 XY coords. - sec. SE quad cor.*
SECONDARY_SW_QUAD_XY 355642.085 4109771.406 XY coords. - sec. SW quad cor.*
RMSE_XY 2.60 doq horiz. accuracy*
IMAGE_SOURCE "BLACK AND WHITE FILM" b&w, cir, natural color, other*
SOURCE_IMAGE_ID "NAPP 6319 069" source image id*
SOURCE_IMAGE_DATE 1995 10 08 source image date as yyyy mm dd*
SOURCE_DEM_DATE 1976 00 00 source dem date yyyy mm dd*
AGENCY "WESTERN MAPPING CENTER (WMC)" oversight agency*
PRODUCER "SCIENCE APPLICATIONS INTERNATIONAL" producer/contractor*
PRODUCTION_SYSTEM "GIS/MAGIC" production system*
STANDARD_VERSION 1996 12 version of DOQ standard*
METADATA_DATE 1998 07 02 date created or changed, yyyy mm dd*
DATA_FILE_SIZE 48531852 data set size in bytes*
BYTE_COUNT 6354 header byte count* * * * * * * * * * * * * * * * * * * * * * * * * * * * * * * * * * * * *
END_USGS_HEADER *
