BEGIN_USGS_DOQ_HEADER *
QUADRANGLE_NAME "WARD MOUNTAIN" *
QUADRANT NE *
WEST_LONGITUDE -118 56 15.000 *
EAST_LONGITUDE -118 52 30.000 *
NORTH_LATITUDE 37 15 0.000 *
SOUTH_LATITUDE 37 11 15.000 *
PRODUCTION_DATE 2001 10 9 *
RASTER_ORDER LEFT_RIGHT/TOP_BOTTOM *
BAND_ORGANIZATION "SINGLE FILE" *
BAND_CONTENT BLACK&WHITE *
BITS_PER_PIXEL 8 *
SAMPLES_AND_LINES 6366 7647 *
HORIZONTAL_DATUM NAD83 *
HORIZONTAL_COORDINATE_SYSTEM UTM *
COORDINATE_ZONE 11 *
HORIZONTAL_UNITS METERS *
HORIZONTAL_RESOLUTION 1.0 *
SECONDARY_HORIZONTAL_DATUM NAD27 *
XY_ORIGIN 327641.976 4124663.241 *
SECONDARY_XY_ORIGIN 327721.996 4124464.131 *
NATION US *
STATE CA *
NW_QUAD_CORNER_XY 328166.074 4124365.241 *
NE_QUAD_CORNER_XY 333709.647 4124253.561 *
SE_QUAD_CORNER_XY 333572.334 4117318.971 *
SW_QUAD_CORNER_XY 328024.180 4117430.583 *
SECONDARY_NW_QUAD_XY 328161.859 4124161.458 *
SECONDARY_NE_QUAD_XY 333705.568 4124049.775 *
SECONDARY_SE_QUAD_XY 333568.259 4117115.345 *
SECONDARY_SW_QUAD_XY 328019.969 4117226.960 *
RMSE_XY 1.96 *
IMAGE_SOURCE "BLACK AND WHITE FILM" *
SOURCE_IMAGE_ID "NAPP 10556 280" *
SOURCE_IMAGE_DATE 1998 8 26 *
SOURCE_IMAGE_ID "NAPP 10556 279" *
SOURCE_IMAGE_DATE 1998 8 26 *
SOURCE_IMAGE_ID "NAPP 10564 178" *
SOURCE_IMAGE_DATE 1998 9 18 *
SOURCE_IMAGE_ID "NAPP 10556 258" *
SOURCE_IMAGE_DATE 1998 8 26 *
SOURCE_IMAGE_ID "NAPP 10556 257" *
SOURCE_IMAGE_DATE 1998 8 26 *
SOURCE_IMAGE_ID "NAPP 10556 256" *
SOURCE_IMAGE_DATE 1998 8 26 *
SOURCE_IMAGE_ID "NAPP 10567 113" *
SOURCE_IMAGE_DATE 1999 8 1 *
SOURCE_IMAGE_ID "NAPP 10567 114" *
SOURCE_IMAGE_DATE 1999 8 1 *
SOURCE_IMAGE_ID "NAPP 10567 115" *
SOURCE_IMAGE_DATE 1999 8 1 *
SOURCE_DEM_DATE 2000 0 0 *
AGENCY "WESTERN MAPPING CENTER (WMC)" *
PRODUCER "USDA FS GEOSPATIAL SERVICE AND TECHNOLOGY CENTER" *
PRODUCTION_SYSTEM "ORBIT OR_RECTIFY V.5.2" *
STANDARD_VERSION 1996 12 *
METADATA_DATE 2001 10 11 *
DATA_FILE_SIZE 48687168 *
BYTE_COUNT 6366 * * * * * * * * * * * * * * * * * * * * *
END_USGS_HEADER *
