BEGIN_USGS_DOQ_HEADER *
QUADRANGLE_NAME "WESTGARD PASS" 3.45 or 7.5-min. name*
QUADRANT SE quadrant indicator if cell size = 3.75-minutes*
WEST_LONGITUDE -118 11 15.000 signed deg min sec SDDD MM SS.SSS*
EAST_LONGITUDE -118 7 30.000 signed deg min sec SDDD MM SS.SSS*
NORTH_LATITUDE 37 18 45.000 signed deg min sec SDDD MM SS.SSS*
SOUTH_LATITUDE 37 15 0.000 signed deg min sec SDDD MM SS.SSS*
PRODUCTION_DATE 1998 9 28 yyyy mm dd*
RASTER_ORDER LEFT_RIGHT/TOP_BOTTOM video display order*
BAND_ORGANIZATION "SINGLE FILE" single file or BSQ, or BIL or BIP*
BAND_CONTENT BLACK&WHITE black&white or red green blue*
BITS_PER_PIXEL 8 radiometric resolution*
SAMPLES_AND_LINES 6311 7611 number of columns and rows*
HORIZONTAL_DATUM NAD83 primary horizontal datum*
HORIZONTAL_COORDINATE_SYSTEM UTM *
COORDINATE_ZONE 11 coordinate system zone number*
HORIZONTAL_UNITS METERS coordinate system units*
HORIZONTAL_RESOLUTION 1.00 pixel horiz. ground sample distance*
SECONDARY_HORIZONTAL_DATUM NAD27 secondary horizontal datum*
XY_ORIGIN 394302.000 4130501.000 coord. of upper left pixel pri. datum*
SECONDARY_XY_ORIGIN 394382.214 4130303.858 coord upper left pixel sec datum*
NATION US nation code*
STATE CA state fip code*
NW_QUAD_CORNER_XY 394772.877 4130200.975 XY coords. of pri. NW quad corner*
NE_QUAD_CORNER_XY 400311.343 4130133.216 XY coords. of pri. NE quad corner*
SE_QUAD_CORNER_XY 400228.863 4123199.199 XY coords. of pri. SE quad corner*
SW_QUAD_CORNER_XY 394685.813 4123266.916 XY coords. of pri. SW quad corner*
SECONDARY_NW_QUAD_XY 394770.293 4129997.009 XY coords. - sec. NW quad cor.*
SECONDARY_NE_QUAD_XY 400308.894 4129929.248 XY coords. - sec. NE quad cor.*
SECONDARY_SE_QUAD_XY 400226.416 4122995.390 XY coords. - sec. SE quad cor.*
SECONDARY_SW_QUAD_XY 394683.231 4123063.110 XY coords. - sec. SW quad cor.*
RMSE_XY 2.30 doq horiz. accuracy*
IMAGE_SOURCE "BLACK AND WHITE FILM" b&w, cir, natural color, other*
SOURCE_IMAGE_ID "NAPP 6313 121" source image id*
SOURCE_IMAGE_DATE 1993 09 28 source image date as yyyy mm dd*
IMAGE_SOURCE "BLACK AND WHITE FILM" b&w, cir, natural color, other*
SOURCE_IMAGE_ID "NAPP 6304 194" source image id*
SOURCE_IMAGE_DATE 1993 07 15 source image date as yyyy mm dd*
IMAGE_SOURCE "BLACK AND WHITE FILM" b&w, cir, natural color, other*
SOURCE_IMAGE_ID "NAPP 6313 120" source image id*
SOURCE_IMAGE_DATE 1993 09 28 source image date as yyyy mm dd*
SOURCE_DEM_DATE 1987 00 00 source dem date yyyy mm dd*
AGENCY "WESTERN MAPPING CENTER (WMC)" oversight agency*
PRODUCER "SCIENCE APPLICATIONS INTERNATIONAL" producer/contractor*
PRODUCTION_SYSTEM "GIS/MAGIC" production system*
STANDARD_VERSION 1996 12 version of DOQ standard*
METADATA_DATE 1998 10 01 date created or changed, yyyy mm dd*
DATA_FILE_SIZE 48039332 data set size in bytes*
BYTE_COUNT 6311 header byte count* * * * * * * * * * * * * * * * * * * * * * * * * * * * * *
END_USGS_HEADER *
