BEGIN_USGS_DOQ_HEADER *
QUADRANGLE_NAME "WESTGARD PASS" *
QUADRANT SW *
WEST_LONGITUDE -118 15 0.000 *
EAST_LONGITUDE -118 11 15.000 *
NORTH_LATITUDE 37 18 45.000 *
SOUTH_LATITUDE 37 15 0.000 *
PRODUCTION_DATE 2001 12 12 *
RASTER_ORDER LEFT_RIGHT/TOP_BOTTOM *
BAND_ORGANIZATION "SINGLE FILE" *
BAND_CONTENT BLACK&WHITE *
BITS_PER_PIXEL 8 *
SAMPLES_AND_LINES 6313 7612 *
HORIZONTAL_DATUM NAD83 *
HORIZONTAL_COORDINATE_SYSTEM UTM *
COORDINATE_ZONE 11 *
HORIZONTAL_UNITS METERS *
HORIZONTAL_RESOLUTION 1.0 *
SECONDARY_HORIZONTAL_DATUM NAD27 *
XY_ORIGIN 388759.751 4130572.398 *
SECONDARY_XY_ORIGIN 388840.039 4130375.269 *
NATION US *
STATE CA *
NW_QUAD_CORNER_XY 389234.378 4130272.398 *
NE_QUAD_CORNER_XY 394772.877 4130200.975 *
SE_QUAD_CORNER_XY 394685.813 4123266.917 *
SW_QUAD_CORNER_XY 389142.730 4123338.296 *
SECONDARY_NW_QUAD_XY 389231.661 4130068.433 *
SECONDARY_NE_QUAD_XY 394770.295 4129997.010 *
SECONDARY_SE_QUAD_XY 394683.233 4123063.110 *
SECONDARY_SW_QUAD_XY 389140.015 4123134.491 *
RMSE_XY 1.91 *
IMAGE_SOURCE "BLACK AND WHITE FILM" *
SOURCE_IMAGE_ID "NAPP 10569 247" *
SOURCE_IMAGE_DATE 1999 8 8 *
SOURCE_IMAGE_ID "NAPP 10569 246" *
SOURCE_IMAGE_DATE 1999 8 8 *
SOURCE_IMAGE_ID "NAPP 10569 248" *
SOURCE_IMAGE_DATE 1999 8 8 *
SOURCE_IMAGE_ID "NAPP 10553 223" *
SOURCE_IMAGE_DATE 1998 8 23 *
SOURCE_IMAGE_ID "NAPP 10553 222" *
SOURCE_IMAGE_DATE 1998 8 23 *
SOURCE_IMAGE_ID "NAPP 10553 221" *
SOURCE_IMAGE_DATE 1998 8 23 *
SOURCE_IMAGE_ID "NAPP 10569 135" *
SOURCE_IMAGE_DATE 1999 8 8 *
SOURCE_IMAGE_ID "NAPP 10569 134" *
SOURCE_IMAGE_DATE 1999 8 8 *
SOURCE_IMAGE_ID "NAPP 10569 133" *
SOURCE_IMAGE_DATE 1999 8 8 *
SOURCE_DEM_DATE 2000 0 0 *
AGENCY "WESTERN MAPPING CENTER (WMC)" *
PRODUCER "USDA FS GEOSPATIAL SERVICE AND TECHNOLOGY CENTER" *
PRODUCTION_SYSTEM "ORBIT OR_RECTIFY V.5.2" *
STANDARD_VERSION 1996 12 *
METADATA_DATE 2001 12 31 *
DATA_FILE_SIZE 48060869 *
BYTE_COUNT 6313 * * * * * * * * * * * * * * * * * * * *
END_USGS_HEADER *
