BEGIN_USGS_DOQ_HEADER *
QUADRANGLE_NAME "BISHOP" *
QUADRANT SE *
WEST_LONGITUDE -118 26 15.000 *
EAST_LONGITUDE -118 22 30.000 *
NORTH_LATITUDE 37 18 45.000 *
SOUTH_LATITUDE 37 15 0.000 *
PRODUCTION_DATE 2001 12 12 *
RASTER_ORDER LEFT_RIGHT/TOP_BOTTOM *
BAND_ORGANIZATION "SINGLE FILE" *
BAND_CONTENT BLACK&WHITE *
BITS_PER_PIXEL 8 *
SAMPLES_AND_LINES 6328 7623 *
HORIZONTAL_DATUM NAD83 *
HORIZONTAL_COORDINATE_SYSTEM UTM *
COORDINATE_ZONE 11 *
HORIZONTAL_UNITS METERS *
HORIZONTAL_RESOLUTION 1.0 *
SECONDARY_HORIZONTAL_DATUM NAD27 *
XY_ORIGIN 372129.552 4130808.655 *
SECONDARY_XY_ORIGIN 372210.228 4130611.226 *
NATION US *
STATE CA *
NW_QUAD_CORNER_XY 372618.663 4130508.655 *
NE_QUAD_CORNER_XY 378157.273 4130426.238 *
SE_QUAD_CORNER_XY 378056.455 4123492.043 *
SW_QUAD_CORNER_XY 372513.259 4123574.410 *
SECONDARY_NW_QUAD_XY 372615.537 4130304.696 *
SECONDARY_NE_QUAD_XY 378154.284 4130222.277 *
SECONDARY_SE_QUAD_XY 378053.468 4123288.241 *
SECONDARY_SW_QUAD_XY 372510.136 4123370.610 *
RMSE_XY 1.91 *
IMAGE_SOURCE "BLACK AND WHITE FILM" *
SOURCE_IMAGE_ID "NAPP 10569 59" *
SOURCE_IMAGE_DATE 1999 8 3 *
SOURCE_IMAGE_ID "NAPP 10569 60" *
SOURCE_IMAGE_DATE 1999 8 3 *
SOURCE_IMAGE_ID "NAPP 10569 58" *
SOURCE_IMAGE_DATE 1999 8 3 *
SOURCE_IMAGE_ID "NAPP 10569 26" *
SOURCE_IMAGE_DATE 1999 8 3 *
SOURCE_IMAGE_ID "NAPP 10569 27" *
SOURCE_IMAGE_DATE 1999 8 3 *
SOURCE_IMAGE_ID "NAPP 10569 28" *
SOURCE_IMAGE_DATE 1999 8 3 *
SOURCE_IMAGE_ID "NAPP 10553 202" *
SOURCE_IMAGE_DATE 1998 8 23 *
SOURCE_IMAGE_ID "NAPP 10553 203" *
SOURCE_IMAGE_DATE 1998 8 23 *
SOURCE_IMAGE_ID "NAPP 10553 204" *
SOURCE_IMAGE_DATE 1998 8 23 *
SOURCE_DEM_DATE 2000 0 0 *
AGENCY "WESTERN MAPPING CENTER (WMC)" *
PRODUCER "USDA FS GEOSPATIAL SERVICE AND TECHNOLOGY CENTER" *
PRODUCTION_SYSTEM "ORBIT OR_RECTIFY V.5.2" *
STANDARD_VERSION 1996 12 *
METADATA_DATE 2001 12 31 *
DATA_FILE_SIZE 48244672 *
BYTE_COUNT 6328 * * * * * * * * * * * * * * * * * * * * *
END_USGS_HEADER *
