BEGIN_USGS_DOQ_HEADER *
QUADRANGLE_NAME "MOUNT TOM" 3.45 or 7.5-min. name*
QUADRANT SE quadrant indicator if cell size = 3.75-minutes*
WEST_LONGITUDE -118 41 15.000 signed deg min sec SDDD MM SS.SSS*
EAST_LONGITUDE -118 37 30.000 signed deg min sec SDDD MM SS.SSS*
NORTH_LATITUDE 37 18 45.000 signed deg min sec SDDD MM SS.SSS*
SOUTH_LATITUDE 37 15 0.000 signed deg min sec SDDD MM SS.SSS*
PRODUCTION_DATE 1998 6 9 yyyy mm dd*
RASTER_ORDER LEFT_RIGHT/TOP_BOTTOM video display order*
BAND_ORGANIZATION "SINGLE FILE" single file or BSQ, or BIL or BIP*
BAND_CONTENT BLACK&WHITE black&white or red green blue*
BITS_PER_PIXEL 8 radiometric resolution*
SAMPLES_AND_LINES 6350 7640 number of columns and rows*
HORIZONTAL_DATUM NAD83 primary horizontal datum*
HORIZONTAL_COORDINATE_SYSTEM UTM *
COORDINATE_ZONE 11 coordinate system zone number*
HORIZONTAL_UNITS METERS coordinate system units*
HORIZONTAL_RESOLUTION 1.00 pixel horiz. ground sample distance*
SECONDARY_HORIZONTAL_DATUM NAD27 secondary horizontal datum*
XY_ORIGIN 349954.000 4131175.000 coord. of upper left pixel pri. datum*
SECONDARY_XY_ORIGIN 350034.651 4130976.867 coord upper left pixel sec datum*
NATION US nation code*
STATE CA state fip code*
NW_QUAD_CORNER_XY 350463.799 4130874.978 XY coords. of pri. NW quad corner*
NE_QUAD_CORNER_XY 356002.582 4130777.898 XY coords. of pri. NE quad corner*
SE_QUAD_CORNER_XY 355883.421 4123843.491 XY coords. of pri. SE quad corner*
SW_QUAD_CORNER_XY 350340.051 4123940.512 XY coords. of pri. SW quad corner*
SECONDARY_NW_QUAD_XY 350460.126 4130671.029 XY coords. - sec. NW quad cor.*
SECONDARY_NE_QUAD_XY 355999.045 4130573.947 XY coords. - sec. NE quad cor.*
SECONDARY_SE_QUAD_XY 355879.886 4123639.698 XY coords. - sec. SE quad cor.*
SECONDARY_SW_QUAD_XY 350336.380 4123736.721 XY coords. - sec. SW quad cor.*
RMSE_XY 2.70 doq horiz. accuracy*
IMAGE_SOURCE "BLACK AND WHITE FILM" b&w, cir, natural color, other*
SOURCE_IMAGE_ID "NAPP 6319 076" source image id*
SOURCE_IMAGE_DATE 1995 10 08 source image date as yyyy mm dd*
IMAGE_SOURCE "BLACK AND WHITE FILM" b&w, cir, natural color, other*
SOURCE_IMAGE_ID "NAPP 6319 077" source image id*
SOURCE_IMAGE_DATE 1995 10 08 source image date as yyyy mm dd*
IMAGE_SOURCE "BLACK AND WHITE FILM" b&w, cir, natural color, other*
SOURCE_IMAGE_ID "NAPP 6319 075" source image id*
SOURCE_IMAGE_DATE 1995 10 08 source image date as yyyy mm dd*
IMAGE_SOURCE "BLACK AND WHITE FILM" b&w, cir, natural color, other*
SOURCE_IMAGE_ID "NAPP 6313 208" source image id*
SOURCE_IMAGE_DATE 1993 09 28 source image date as yyyy mm dd*
SOURCE_DEM_DATE 1994 00 00 source dem date yyyy mm dd*
AGENCY "WESTERN MAPPING CENTER (WMC)" oversight agency*
PRODUCER "SCIENCE APPLICATIONS INTERNATIONAL" producer/contractor*
PRODUCTION_SYSTEM "GIS/MAGIC" production system*
STANDARD_VERSION 1996 12 version of DOQ standard*
METADATA_DATE 1998 06 16 date created or changed, yyyy mm dd*
DATA_FILE_SIZE 48520350 data set size in bytes*
BYTE_COUNT 6350 header byte count* * * * * * * * * * * * * * * * * * * * * * * * * * * *
END_USGS_HEADER *
