BEGIN_USGS_DOQ_HEADER *
QUADRANGLE_NAME "MOUNT HILGARD" 3.45 or 7.5-min. name*
QUADRANT SE quadrant indicator if cell size = 3.75-minutes*
WEST_LONGITUDE -118 48 45.000 signed deg min sec SDDD MM SS.SSS*
EAST_LONGITUDE -118 45 0.000 signed deg min sec SDDD MM SS.SSS*
NORTH_LATITUDE 37 18 45.000 signed deg min sec SDDD MM SS.SSS*
SOUTH_LATITUDE 37 15 0.000 signed deg min sec SDDD MM SS.SSS*
PRODUCTION_DATE 1998 6 9 yyyy mm dd*
RASTER_ORDER LEFT_RIGHT/TOP_BOTTOM video display order*
BAND_ORGANIZATION "SINGLE FILE" single file or BSQ, or BIL or BIP*
BAND_CONTENT BLACK&WHITE black&white or red green blue*
BITS_PER_PIXEL 8 radiometric resolution*
SAMPLES_AND_LINES 6359 7648 number of columns and rows*
HORIZONTAL_DATUM NAD83 primary horizontal datum*
HORIZONTAL_COORDINATE_SYSTEM UTM *
COORDINATE_ZONE 11 coordinate system zone number*
HORIZONTAL_UNITS METERS coordinate system units*
HORIZONTAL_RESOLUTION 1.00 pixel horiz. ground sample distance*
SECONDARY_HORIZONTAL_DATUM NAD27 secondary horizontal datum*
XY_ORIGIN 338867.000 4131381.000 coord. of upper left pixel pri. datum*
SECONDARY_XY_ORIGIN 338947.459 4131182.393 coord upper left pixel sec datum*
NATION US nation code*
STATE CA state fip code*
NW_QUAD_CORNER_XY 339386.089 4131080.137 XY coords. of pri. NW quad corner*
NE_QUAD_CORNER_XY 344924.968 4130975.724 XY coords. of pri. NE quad corner*
SE_QUAD_CORNER_XY 344796.633 4124041.197 XY coords. of pri. SE quad corner*
SW_QUAD_CORNER_XY 339253.166 4124145.547 XY coords. of pri. SW quad corner*
SECONDARY_NW_QUAD_XY 339382.143 4130876.193 XY coords. - sec. NW quad cor.*
SECONDARY_NE_QUAD_XY 344921.159 4130771.777 XY coords. - sec. NE quad cor.*
SECONDARY_SE_QUAD_XY 344792.827 4123837.409 XY coords. - sec. SE quad cor.*
SECONDARY_SW_QUAD_XY 339249.223 4123941.761 XY coords. - sec. SW quad cor.*
RMSE_XY 3.90 doq horiz. accuracy*
IMAGE_SOURCE "BLACK AND WHITE FILM" b&w, cir, natural color, other*
SOURCE_IMAGE_ID "NAPP 6313 248" source image id*
SOURCE_IMAGE_DATE 1993 09 28 source image date as yyyy mm dd*
IMAGE_SOURCE "BLACK AND WHITE FILM" b&w, cir, natural color, other*
SOURCE_IMAGE_ID "NAPP 6320 006" source image id*
SOURCE_IMAGE_DATE 1995 10 09 source image date as yyyy mm dd*
IMAGE_SOURCE "BLACK AND WHITE FILM" b&w, cir, natural color, other*
SOURCE_IMAGE_ID "NAPP 6313 249" source image id*
SOURCE_IMAGE_DATE 1993 09 28 source image date as yyyy mm dd*
SOURCE_DEM_DATE 1997 01 01 source dem date yyyy mm dd*
AGENCY "WESTERN MAPPING CENTER (WMC)" oversight agency*
PRODUCER "SCIENCE APPLICATIONS INTERNATIONAL" producer/contractor*
PRODUCTION_SYSTEM "GIS/MAGIC" production system*
STANDARD_VERSION 1996 12 version of DOQ standard*
METADATA_DATE 1998 06 16 date created or changed, yyyy mm dd*
DATA_FILE_SIZE 48639991 data set size in bytes*
BYTE_COUNT 6359 header byte count* * * * * * * * * * * * * * * * * * * * * * * * * * * * * * *
END_USGS_HEADER *
