BEGIN_USGS_DOQ_HEADER *
QUADRANGLE_NAME "FLORENCE LAKE" 3.45 or 7.5-min. name*
QUADRANT SE quadrant indicator if cell size = 3.75-minutes*
WEST_LONGITUDE -118 56 15.000 signed deg min sec SDDD MM SS.SSS*
EAST_LONGITUDE -118 52 30.000 signed deg min sec SDDD MM SS.SSS*
NORTH_LATITUDE 37 18 45.000 signed deg min sec SDDD MM SS.SSS*
SOUTH_LATITUDE 37 15 0.000 signed deg min sec SDDD MM SS.SSS*
PRODUCTION_DATE 1998 6 9 yyyy mm dd*
RASTER_ORDER LEFT_RIGHT/TOP_BOTTOM video display order*
BAND_ORGANIZATION "SINGLE FILE" single file or BSQ, or BIL or BIP*
BAND_CONTENT BLACK&WHITE black&white or red green blue*
BITS_PER_PIXEL 8 radiometric resolution*
SAMPLES_AND_LINES 6369 7654 number of columns and rows*
HORIZONTAL_DATUM NAD83 primary horizontal datum*
HORIZONTAL_COORDINATE_SYSTEM UTM *
COORDINATE_ZONE 11 coordinate system zone number*
HORIZONTAL_UNITS METERS coordinate system units*
HORIZONTAL_RESOLUTION 1.00 pixel horiz. ground sample distance*
SECONDARY_HORIZONTAL_DATUM NAD27 secondary horizontal datum*
XY_ORIGIN 327780.000 4131600.000 coord. of upper left pixel pri. datum*
SECONDARY_XY_ORIGIN 327860.152 4131400.834 coord upper left pixel sec datum*
NATION US nation code*
STATE CA state fip code*
NW_QUAD_CORNER_XY 328308.174 4131299.964 XY coords. of pri. NW quad corner*
NE_QUAD_CORNER_XY 333847.158 4131188.217 XY coords. of pri. NE quad corner*
SE_QUAD_CORNER_XY 333709.647 4124253.561 XY coords. of pri. SE quad corner*
SW_QUAD_CORNER_XY 328166.074 4124365.241 XY coords. of pri. SW quad corner*
SECONDARY_NW_QUAD_XY 328303.956 4131096.026 XY coords. - sec. NW quad cor.*
SECONDARY_NE_QUAD_XY 333843.076 4130984.275 XY coords. - sec. NE quad cor.*
SECONDARY_SE_QUAD_XY 333705.568 4124049.779 XY coords. - sec. SE quad cor.*
SECONDARY_SW_QUAD_XY 328161.859 4124161.461 XY coords. - sec. SW quad cor.*
RMSE_XY 3.40 doq horiz. accuracy*
IMAGE_SOURCE "BLACK AND WHITE FILM" b&w, cir, natural color, other*
SOURCE_IMAGE_ID "NAPP 6309 167" source image id*
SOURCE_IMAGE_DATE 1993 09 25 source image date as yyyy mm dd*
IMAGE_SOURCE "BLACK AND WHITE FILM" b&w, cir, natural color, other*
SOURCE_IMAGE_ID "NAPP 6309 166" source image id*
SOURCE_IMAGE_DATE 1993 09 25 source image date as yyyy mm dd*
IMAGE_SOURCE "BLACK AND WHITE FILM" b&w, cir, natural color, other*
SOURCE_IMAGE_ID "NAPP 6309 168" source image id*
SOURCE_IMAGE_DATE 1993 09 25 source image date as yyyy mm dd*
IMAGE_SOURCE "BLACK AND WHITE FILM" b&w, cir, natural color, other*
SOURCE_IMAGE_ID "NAPP 6320 006" source image id*
SOURCE_IMAGE_DATE 1995 10 09 source image date as yyyy mm dd*
SOURCE_DEM_DATE 1983 00 00 source dem date yyyy mm dd*
AGENCY "WESTERN MAPPING CENTER (WMC)" oversight agency*
PRODUCER "SCIENCE APPLICATIONS INTERNATIONAL" producer/contractor*
PRODUCTION_SYSTEM "GIS/MAGIC" production system*
STANDARD_VERSION 1996 12 version of DOQ standard*
METADATA_DATE 1998 06 16 date created or changed, yyyy mm dd*
DATA_FILE_SIZE 48754695 data set size in bytes*
BYTE_COUNT 6369 header byte count* * * * * * * * * * * * * * * * * * * * * * * * * * * *
END_USGS_HEADER *
