BEGIN_USGS_DOQ_HEADER *
QUADRANGLE_NAME "CROOKED CREEK" *
QUADRANT SE *
WEST_LONGITUDE -118 3 45.000 *
EAST_LONGITUDE -118 0 0.000 *
NORTH_LATITUDE 37 26 15.000 *
SOUTH_LATITUDE 37 22 30.000 *
PRODUCTION_DATE 2001 12 12 *
RASTER_ORDER LEFT_RIGHT/TOP_BOTTOM *
BAND_ORGANIZATION "SINGLE FILE" *
BAND_CONTENT BLACK&WHITE *
BITS_PER_PIXEL 8 *
SAMPLES_AND_LINES 6290 7601 *
HORIZONTAL_DATUM NAD83 *
HORIZONTAL_COORDINATE_SYSTEM UTM *
COORDINATE_ZONE 11 *
HORIZONTAL_UNITS METERS *
HORIZONTAL_RESOLUTION 1.0 *
SECONDARY_HORIZONTAL_DATUM NAD27 *
XY_ORIGIN 405545.371 4144237.291 *
SECONDARY_XY_ORIGIN 405625.503 4144039.730 *
NATION US *
STATE CA *
NW_QUAD_CORNER_XY 406005.906 4143937.291 *
NE_QUAD_CORNER_XY 411535.123 4143876.787 *
SE_QUAD_CORNER_XY 411461.599 4136942.703 *
SW_QUAD_CORNER_XY 405927.785 4137003.170 *
SECONDARY_NW_QUAD_XY 406003.593 4143733.008 *
SECONDARY_NE_QUAD_XY 411532.946 4143672.503 *
SECONDARY_SE_QUAD_XY 411459.423 4136738.576 *
SECONDARY_SW_QUAD_XY 405925.473 4136799.045 *
RMSE_XY 1.91 *
IMAGE_SOURCE "BLACK AND WHITE FILM" *
SOURCE_IMAGE_ID "NAPP 10551 48" *
SOURCE_IMAGE_DATE 1998 8 22 *
SOURCE_IMAGE_ID "NAPP 10551 47" *
SOURCE_IMAGE_DATE 1998 8 22 *
SOURCE_IMAGE_ID "NAPP 10551 49" *
SOURCE_IMAGE_DATE 1998 8 22 *
SOURCE_IMAGE_ID "NAPP 10569 65" *
SOURCE_IMAGE_DATE 1999 8 3 *
SOURCE_IMAGE_ID "NAPP 10563 121" *
SOURCE_IMAGE_DATE 1998 9 17 *
SOURCE_IMAGE_ID "NAPP 10563 120" *
SOURCE_IMAGE_DATE 1998 9 17 *
SOURCE_DEM_DATE 2000 0 0 *
AGENCY "WESTERN MAPPING CENTER (WMC)" *
PRODUCER "USDA FS GEOSPATIAL SERVICE AND TECHNOLOGY CENTER" *
PRODUCTION_SYSTEM "ORBIT OR_RECTIFY V.5.2" *
STANDARD_VERSION 1996 12 *
METADATA_DATE 2001 12 31 *
DATA_FILE_SIZE 47816580 *
BYTE_COUNT 6290 * * * * * * * * * * * * * * * * * * * * * * * * * *
END_USGS_HEADER *
