BEGIN_USGS_DOQ_HEADER *
QUADRANGLE_NAME "BLANCO MOUNTAIN" 3.45 or 7.5-min. name*
QUADRANT SE quadrant indicator if cell size = 3.75-minutes*
WEST_LONGITUDE -118 11 15.000 signed deg min sec SDDD MM SS.SSS*
EAST_LONGITUDE -118 7 30.000 signed deg min sec SDDD MM SS.SSS*
NORTH_LATITUDE 37 26 15.000 signed deg min sec SDDD MM SS.SSS*
SOUTH_LATITUDE 37 22 30.000 signed deg min sec SDDD MM SS.SSS*
PRODUCTION_DATE 1998 9 29 yyyy mm dd*
RASTER_ORDER LEFT_RIGHT/TOP_BOTTOM video display order*
BAND_ORGANIZATION "SINGLE FILE" single file or BSQ, or BIL or BIP*
BAND_CONTENT BLACK&WHITE black&white or red green blue*
BITS_PER_PIXEL 8 radiometric resolution*
SAMPLES_AND_LINES 6302 7612 number of columns and rows*
HORIZONTAL_DATUM NAD83 primary horizontal datum*
HORIZONTAL_COORDINATE_SYSTEM UTM *
COORDINATE_ZONE 11 coordinate system zone number*
HORIZONTAL_UNITS METERS coordinate system units*
HORIZONTAL_RESOLUTION 1.00 pixel horiz. ground sample distance*
SECONDARY_HORIZONTAL_DATUM NAD27 secondary horizontal datum*
XY_ORIGIN 394476.000 4144370.000 coord. of upper left pixel pri. datum*
SECONDARY_XY_ORIGIN 394556.247 4144172.538 coord upper left pixel sec datum*
NATION US nation code*
STATE CA state fip code*
NW_QUAD_CORNER_XY 394947.382 4144069.302 XY coords. of pri. NW quad corner*
NE_QUAD_CORNER_XY 400476.660 4144001.462 XY coords. of pri. NE quad corner*
SE_QUAD_CORNER_XY 400393.942 4137067.304 XY coords. of pri. SE quad corner*
SW_QUAD_CORNER_XY 394860.067 4137135.103 XY coords. of pri. SW quad corner*
SECONDARY_NW_QUAD_XY 394944.793 4143865.021 XY coords. - sec. NW quad cor.*
SECONDARY_NE_QUAD_XY 400474.207 4143797.179 XY coords. - sec. NE quad cor.*
SECONDARY_SE_QUAD_XY 400391.491 4136863.178 XY coords. - sec. SE quad cor.*
SECONDARY_SW_QUAD_XY 394857.480 4136930.979 XY coords. - sec. SW quad cor.*
RMSE_XY 1.70 doq horiz. accuracy*
IMAGE_SOURCE "BLACK AND WHITE FILM" b&w, cir, natural color, other*
SOURCE_IMAGE_ID "NAPP 6313 117" source image id*
SOURCE_IMAGE_DATE 1993 09 28 source image date as yyyy mm dd*
IMAGE_SOURCE "BLACK AND WHITE FILM" b&w, cir, natural color, other*
SOURCE_IMAGE_ID "NAPP 6313 118" source image id*
SOURCE_IMAGE_DATE 1993 09 28 source image date as yyyy mm dd*
IMAGE_SOURCE "BLACK AND WHITE FILM" b&w, cir, natural color, other*
SOURCE_IMAGE_ID "NAPP 6313 116" source image id*
SOURCE_IMAGE_DATE 1993 09 28 source image date as yyyy mm dd*
IMAGE_SOURCE "BLACK AND WHITE FILM" b&w, cir, natural color, other*
SOURCE_IMAGE_ID "NAPP 6304 078" source image id*
SOURCE_IMAGE_DATE 1993 07 15 source image date as yyyy mm dd*
IMAGE_SOURCE "BLACK AND WHITE FILM" b&w, cir, natural color, other*
SOURCE_IMAGE_ID "NAPP 6304 080" source image id*
SOURCE_IMAGE_DATE 1993 07 15 source image date as yyyy mm dd*
SOURCE_DEM_DATE 1987 00 00 source dem date yyyy mm dd*
AGENCY "WESTERN MAPPING CENTER (WMC)" oversight agency*
PRODUCER "SCIENCE APPLICATIONS INTERNATIONAL" producer/contractor*
PRODUCTION_SYSTEM "GIS/MAGIC" production system*
STANDARD_VERSION 1996 12 version of DOQ standard*
METADATA_DATE 1998 10 01 date created or changed, yyyy mm dd*
DATA_FILE_SIZE 47977126 data set size in bytes*
BYTE_COUNT 6302 header byte count* * * * * * * * * * * * * * * * * * * * * * * *
END_USGS_HEADER *
