BEGIN_USGS_DOQ_HEADER *
QUADRANGLE_NAME "BLANCO MOUNTAIN" 3.45 or 7.5-min. name*
QUADRANT SW quadrant indicator if cell size = 3.75-minutes*
WEST_LONGITUDE -118 15 0.000 signed deg min sec SDDD MM SS.SSS*
EAST_LONGITUDE -118 11 15.000 signed deg min sec SDDD MM SS.SSS*
NORTH_LATITUDE 37 26 15.000 signed deg min sec SDDD MM SS.SSS*
SOUTH_LATITUDE 37 22 30.000 signed deg min sec SDDD MM SS.SSS*
PRODUCTION_DATE 1998 9 29 yyyy mm dd*
RASTER_ORDER LEFT_RIGHT/TOP_BOTTOM video display order*
BAND_ORGANIZATION "SINGLE FILE" single file or BSQ, or BIL or BIP*
BAND_CONTENT BLACK&WHITE black&white or red green blue*
BITS_PER_PIXEL 8 radiometric resolution*
SAMPLES_AND_LINES 6307 7615 number of columns and rows*
HORIZONTAL_DATUM NAD83 primary horizontal datum*
HORIZONTAL_COORDINATE_SYSTEM UTM *
COORDINATE_ZONE 11 coordinate system zone number*
HORIZONTAL_UNITS METERS coordinate system units*
HORIZONTAL_RESOLUTION 1.00 pixel horiz. ground sample distance*
SECONDARY_HORIZONTAL_DATUM NAD27 secondary horizontal datum*
XY_ORIGIN 388942.000 4144441.000 coord. of upper left pixel pri. datum*
SECONDARY_XY_ORIGIN 389022.306 4144243.591 coord upper left pixel sec datum*
NATION US nation code*
STATE CA state fip code*
NW_QUAD_CORNER_XY 389418.071 4144140.811 XY coords. of pri. NW quad corner*
NE_QUAD_CORNER_XY 394947.382 4144069.302 XY coords. of pri. NE quad corner*
SE_QUAD_CORNER_XY 394860.067 4137135.103 XY coords. of pri. SE quad corner*
SW_QUAD_CORNER_XY 389326.159 4137206.569 XY coords. of pri. SW quad corner*
SECONDARY_NW_QUAD_XY 389415.347 4143936.531 XY coords. - sec. NW quad cor.*
SECONDARY_NE_QUAD_XY 394944.793 4143865.021 XY coords. - sec. NE quad cor.*
SECONDARY_SE_QUAD_XY 394857.480 4136930.979 XY coords. - sec. SE quad cor.*
SECONDARY_SW_QUAD_XY 389323.436 4137002.447 XY coords. - sec. SW quad cor.*
RMSE_XY 0.90 doq horiz. accuracy*
IMAGE_SOURCE "BLACK AND WHITE FILM" b&w, cir, natural color, other*
SOURCE_IMAGE_ID "NAPP 6313 124" source image id*
SOURCE_IMAGE_DATE 1993 09 28 source image date as yyyy mm dd*
IMAGE_SOURCE "BLACK AND WHITE FILM" b&w, cir, natural color, other*
SOURCE_IMAGE_ID "NAPP 6313 125" source image id*
SOURCE_IMAGE_DATE 1993 09 28 source image date as yyyy mm dd*
IMAGE_SOURCE "BLACK AND WHITE FILM" b&w, cir, natural color, other*
SOURCE_IMAGE_ID "NAPP 6313 117" source image id*
SOURCE_IMAGE_DATE 1993 09 28 source image date as yyyy mm dd*
SOURCE_DEM_DATE 1987 00 00 source dem date yyyy mm dd*
AGENCY "WESTERN MAPPING CENTER (WMC)" oversight agency*
PRODUCER "SCIENCE APPLICATIONS INTERNATIONAL" producer/contractor*
PRODUCTION_SYSTEM "GIS/MAGIC" production system*
STANDARD_VERSION 1996 12 version of DOQ standard*
METADATA_DATE 1998 10 01 date created or changed, yyyy mm dd*
DATA_FILE_SIZE 48034112 data set size in bytes*
BYTE_COUNT 6307 header byte count* * * * * * * * * * * * * * * * * * * * * * * * * * * * * *
END_USGS_HEADER *
