BEGIN_USGS_DOQ_HEADER *
QUADRANGLE_NAME "LAWS" 3.45 or 7.5-min. name*
QUADRANT SW quadrant indicator if cell size = 3.75-minutes*
WEST_LONGITUDE -118 22 30.000 signed deg min sec SDDD MM SS.SSS*
EAST_LONGITUDE -118 18 45.000 signed deg min sec SDDD MM SS.SSS*
NORTH_LATITUDE 37 26 15.000 signed deg min sec SDDD MM SS.SSS*
SOUTH_LATITUDE 37 22 30.000 signed deg min sec SDDD MM SS.SSS*
PRODUCTION_DATE 1998 9 29 yyyy mm dd*
RASTER_ORDER LEFT_RIGHT/TOP_BOTTOM video display order*
BAND_ORGANIZATION "SINGLE FILE" single file or BSQ, or BIL or BIP*
BAND_CONTENT BLACK&WHITE black&white or red green blue*
BITS_PER_PIXEL 8 radiometric resolution*
SAMPLES_AND_LINES 6317 7623 number of columns and rows*
HORIZONTAL_DATUM NAD83 primary horizontal datum*
HORIZONTAL_COORDINATE_SYSTEM UTM *
COORDINATE_ZONE 11 coordinate system zone number*
HORIZONTAL_UNITS METERS coordinate system units*
HORIZONTAL_RESOLUTION 1.00 pixel horiz. ground sample distance*
SECONDARY_HORIZONTAL_DATUM NAD27 secondary horizontal datum*
XY_ORIGIN 377873.000 4144595.000 coord. of upper left pixel pri. datum*
SECONDARY_XY_ORIGIN 377953.652 4144397.346 coord upper left pixel sec datum*
NATION US nation code*
STATE CA state fip code*
NW_QUAD_CORNER_XY 378359.345 4144294.835 XY coords. of pri. NW quad corner*
NE_QUAD_CORNER_XY 383888.726 4144215.988 XY coords. of pri. NE quad corner*
SE_QUAD_CORNER_XY 383792.216 4137281.702 XY coords. of pri. SE quad corner*
SW_QUAD_CORNER_XY 378258.236 4137360.501 XY coords. of pri. SW quad corner*
SECONDARY_NW_QUAD_XY 378356.347 4144090.559 XY coords. - sec. NW quad cor.*
SECONDARY_NE_QUAD_XY 383885.865 4144011.711 XY coords. - sec. NE quad cor.*
SECONDARY_SE_QUAD_XY 383789.357 4137077.582 XY coords. - sec. SE quad cor.*
SECONDARY_SW_QUAD_XY 378255.241 4137156.383 XY coords. - sec. SW quad cor.*
RMSE_XY 1.20 doq horiz. accuracy*
IMAGE_SOURCE "BLACK AND WHITE FILM" b&w, cir, natural color, other*
SOURCE_IMAGE_ID "NAPP 6304 208" source image id*
SOURCE_IMAGE_DATE 1993 07 15 source image date as yyyy mm dd*
IMAGE_SOURCE "BLACK AND WHITE FILM" b&w, cir, natural color, other*
SOURCE_IMAGE_ID "NAPP 6304 209" source image id*
SOURCE_IMAGE_DATE 1993 07 15 source image date as yyyy mm dd*
SOURCE_DEM_DATE 1976 00 00 source dem date yyyy mm dd*
AGENCY "WESTERN MAPPING CENTER (WMC)" oversight agency*
PRODUCER "SCIENCE APPLICATIONS INTERNATIONAL" producer/contractor*
PRODUCTION_SYSTEM "GIS/MAGIC" production system*
STANDARD_VERSION 1996 12 version of DOQ standard*
METADATA_DATE 1998 10 01 date created or changed, yyyy mm dd*
DATA_FILE_SIZE 48160808 data set size in bytes*
BYTE_COUNT 6317 header byte count* * * * * * * * * * * * * * * * * * * * * * * * * * * * * * * * *
END_USGS_HEADER *
