BEGIN_USGS_DOQ_HEADER *
QUADRANGLE_NAME "MOUNT ABBOT" 3.45 or 7.5-min. name*
QUADRANT SE quadrant indicator if cell size = 3.75-minutes*
WEST_LONGITUDE -118 48 45.000 signed deg min sec SDDD MM SS.SSS*
EAST_LONGITUDE -118 45 0.000 signed deg min sec SDDD MM SS.SSS*
NORTH_LATITUDE 37 26 15.000 signed deg min sec SDDD MM SS.SSS*
SOUTH_LATITUDE 37 22 30.000 signed deg min sec SDDD MM SS.SSS*
PRODUCTION_DATE 1998 6 9 yyyy mm dd*
RASTER_ORDER LEFT_RIGHT/TOP_BOTTOM video display order*
BAND_ORGANIZATION "SINGLE FILE" single file or BSQ, or BIL or BIP*
BAND_CONTENT BLACK&WHITE black&white or red green blue*
BITS_PER_PIXEL 8 radiometric resolution*
SAMPLES_AND_LINES 6351 7648 number of columns and rows*
HORIZONTAL_DATUM NAD83 primary horizontal datum*
HORIZONTAL_COORDINATE_SYSTEM UTM *
COORDINATE_ZONE 11 coordinate system zone number*
HORIZONTAL_UNITS METERS coordinate system units*
HORIZONTAL_RESOLUTION 1.00 pixel horiz. ground sample distance*
SECONDARY_HORIZONTAL_DATUM NAD27 secondary horizontal datum*
XY_ORIGIN 339133.000 4145250.000 coord. of upper left pixel pri. datum*
SECONDARY_XY_ORIGIN 339213.791 4145051.262 coord upper left pixel sec datum*
NATION US nation code*
STATE CA state fip code*
NW_QUAD_CORNER_XY 339652.509 4144949.516 XY coords. of pri. NW quad corner*
NE_QUAD_CORNER_XY 345182.194 4144844.978 XY coords. of pri. NE quad corner*
SE_QUAD_CORNER_XY 345053.489 4137910.318 XY coords. of pri. SE quad corner*
SW_QUAD_CORNER_XY 339519.203 4138014.793 XY coords. of pri. SW quad corner*
SECONDARY_NW_QUAD_XY 339648.558 4144745.256 XY coords. - sec. NW quad cor.*
SECONDARY_NE_QUAD_XY 345178.379 4144640.716 XY coords. - sec. NE quad cor.*
SECONDARY_SE_QUAD_XY 345049.676 4137706.213 XY coords. - sec. SE quad cor.*
SECONDARY_SW_QUAD_XY 339515.254 4137810.691 XY coords. - sec. SW quad cor.*
RMSE_XY 3.50 doq horiz. accuracy*
IMAGE_SOURCE "BLACK AND WHITE FILM" b&w, cir, natural color, other*
SOURCE_IMAGE_ID "NAPP 6313 252" source image id*
SOURCE_IMAGE_DATE 1993 09 28 source image date as yyyy mm dd*
IMAGE_SOURCE "BLACK AND WHITE FILM" b&w, cir, natural color, other*
SOURCE_IMAGE_ID "NAPP 6320 010" source image id*
SOURCE_IMAGE_DATE 1995 10 09 source image date as yyyy mm dd*
IMAGE_SOURCE "BLACK AND WHITE FILM" b&w, cir, natural color, other*
SOURCE_IMAGE_ID "NAPP 6313 251" source image id*
SOURCE_IMAGE_DATE 1993 09 28 source image date as yyyy mm dd*
IMAGE_SOURCE "BLACK AND WHITE FILM" b&w, cir, natural color, other*
SOURCE_IMAGE_ID "NAPP 6313 253" source image id*
SOURCE_IMAGE_DATE 1993 09 28 source image date as yyyy mm dd*
IMAGE_SOURCE "BLACK AND WHITE FILM" b&w, cir, natural color, other*
SOURCE_IMAGE_ID "NAPP 6313 217" source image id*
SOURCE_IMAGE_DATE 1993 09 28 source image date as yyyy mm dd*
SOURCE_DEM_DATE 1997 01 01 source dem date yyyy mm dd*
AGENCY "WESTERN MAPPING CENTER (WMC)" oversight agency*
PRODUCER "SCIENCE APPLICATIONS INTERNATIONAL" producer/contractor*
PRODUCTION_SYSTEM "GIS/MAGIC" production system*
STANDARD_VERSION 1996 12 version of DOQ standard*
METADATA_DATE 1998 06 16 date created or changed, yyyy mm dd*
DATA_FILE_SIZE 48578799 data set size in bytes*
BYTE_COUNT 6351 header byte count* * * * * * * * * * * * * * * * * * * * * * * * *
END_USGS_HEADER *
