BEGIN_USGS_DOQ_HEADER *
QUADRANGLE_NAME "GRAVEYARD PEAK" 3.45 or 7.5-min. name*
QUADRANT SE quadrant indicator if cell size = 3.75-minutes*
WEST_LONGITUDE -118 56 15.000 signed deg min sec SDDD MM SS.SSS*
EAST_LONGITUDE -118 52 30.000 signed deg min sec SDDD MM SS.SSS*
NORTH_LATITUDE 37 26 15.000 signed deg min sec SDDD MM SS.SSS*
SOUTH_LATITUDE 37 22 30.000 signed deg min sec SDDD MM SS.SSS*
PRODUCTION_DATE 1998 6 9 yyyy mm dd*
RASTER_ORDER LEFT_RIGHT/TOP_BOTTOM video display order*
BAND_ORGANIZATION "SINGLE FILE" single file or BSQ, or BIL or BIP*
BAND_CONTENT BLACK&WHITE black&white or red green blue*
BITS_PER_PIXEL 8 radiometric resolution*
SAMPLES_AND_LINES 6360 7655 number of columns and rows*
HORIZONTAL_DATUM NAD83 primary horizontal datum*
HORIZONTAL_COORDINATE_SYSTEM UTM *
COORDINATE_ZONE 11 coordinate system zone number*
HORIZONTAL_UNITS METERS coordinate system units*
HORIZONTAL_RESOLUTION 1.00 pixel horiz. ground sample distance*
SECONDARY_HORIZONTAL_DATUM NAD27 secondary horizontal datum*
XY_ORIGIN 328064.000 4145470.000 coord. of upper left pixel pri. datum*
SECONDARY_XY_ORIGIN 328144.400 4145270.722 coord upper left pixel sec datum*
NATION US nation code*
STATE CA state fip code*
NW_QUAD_CORNER_XY 328592.987 4145169.606 XY coords. of pri. NW quad corner*
NE_QUAD_CORNER_XY 334122.774 4145057.725 XY coords. of pri. NE quad corner*
SE_QUAD_CORNER_XY 333984.867 4138122.938 XY coords. of pri. SE quad corner*
SW_QUAD_CORNER_XY 328450.478 4138234.753 XY coords. of pri. SW quad corner*
SECONDARY_NW_QUAD_XY 328588.763 4144965.352 XY coords. - sec. NW quad cor.*
SECONDARY_NE_QUAD_XY 334118.686 4144853.468 XY coords. - sec. NE quad cor.*
SECONDARY_SE_QUAD_XY 333980.782 4137918.839 XY coords. - sec. SE quad cor.*
SECONDARY_SW_QUAD_XY 328446.257 4138030.656 XY coords. - sec. SW quad cor.*
RMSE_XY 1.80 doq horiz. accuracy*
IMAGE_SOURCE "BLACK AND WHITE FILM" b&w, cir, natural color, other*
SOURCE_IMAGE_ID "NAPP 6320 025" source image id*
SOURCE_IMAGE_DATE 1995 10 09 source image date as yyyy mm dd*
IMAGE_SOURCE "BLACK AND WHITE FILM" b&w, cir, natural color, other*
SOURCE_IMAGE_ID "NAPP 6320 024" source image id*
SOURCE_IMAGE_DATE 1995 10 09 source image date as yyyy mm dd*
IMAGE_SOURCE "BLACK AND WHITE FILM" b&w, cir, natural color, other*
SOURCE_IMAGE_ID "NAPP 6320 010" source image id*
SOURCE_IMAGE_DATE 1995 10 09 source image date as yyyy mm dd*
SOURCE_DEM_DATE 1997 01 01 source dem date yyyy mm dd*
AGENCY "WESTERN MAPPING CENTER (WMC)" oversight agency*
PRODUCER "SCIENCE APPLICATIONS INTERNATIONAL" producer/contractor*
PRODUCTION_SYSTEM "GIS/MAGIC" production system*
STANDARD_VERSION 1996 12 version of DOQ standard*
METADATA_DATE 1998 06 16 date created or changed, yyyy mm dd*
DATA_FILE_SIZE 48692160 data set size in bytes*
BYTE_COUNT 6360 header byte count* * * * * * * * * * * * * * * * * * * * * * * * * * * * * * *
END_USGS_HEADER *
