BEGIN_USGS_DOQ_HEADER *
QUADRANGLE_NAME "STATION PEAK" 3.45 or 7.5-min. name*
QUADRANT SW quadrant indicator if cell size = 3.75-minutes*
WEST_LONGITUDE -118 7 30.000 signed deg min sec SDDD MM SS.SSS*
EAST_LONGITUDE -118 3 45.000 signed deg min sec SDDD MM SS.SSS*
NORTH_LATITUDE 37 33 45.000 signed deg min sec SDDD MM SS.SSS*
SOUTH_LATITUDE 37 30 0.000 signed deg min sec SDDD MM SS.SSS*
PRODUCTION_DATE 1998 9 29 yyyy mm dd*
RASTER_ORDER LEFT_RIGHT/TOP_BOTTOM video display order*
BAND_ORGANIZATION "SINGLE FILE" single file or BSQ, or BIL or BIP*
BAND_CONTENT BLACK&WHITE black&white or red green blue*
BITS_PER_PIXEL 8 radiometric resolution*
SAMPLES_AND_LINES 6289 7608 number of columns and rows*
HORIZONTAL_DATUM NAD83 primary horizontal datum*
HORIZONTAL_COORDINATE_SYSTEM UTM *
COORDINATE_ZONE 11 coordinate system zone number*
HORIZONTAL_UNITS METERS coordinate system units*
HORIZONTAL_RESOLUTION 1.00 pixel horiz. ground sample distance*
SECONDARY_HORIZONTAL_DATUM NAD27 secondary horizontal datum*
XY_ORIGIN 400175.000 4158170.000 coord. of upper left pixel pri. datum*
SECONDARY_XY_ORIGIN 400255.314 4157972.169 coord upper left pixel sec datum*
NATION US nation code*
STATE CA state fip code*
NW_QUAD_CORNER_XY 400642.452 4157869.991 XY coords. of pri. NW quad corner*
NE_QUAD_CORNER_XY 406162.484 4157805.744 XY coords. of pri. NE quad corner*
SE_QUAD_CORNER_XY 406084.139 4150871.482 XY coords. of pri. SE quad corner*
SW_QUAD_CORNER_XY 400559.496 4150935.691 XY coords. of pri. SW quad corner*
SECONDARY_NW_QUAD_XY 400639.995 4157665.396 XY coords. - sec. NW quad cor.*
SECONDARY_NE_QUAD_XY 406160.165 4157601.148 XY coords. - sec. NE quad cor.*
SECONDARY_SE_QUAD_XY 406081.821 4150667.041 XY coords. - sec. SE quad cor.*
SECONDARY_SW_QUAD_XY 400557.042 4150731.252 XY coords. - sec. SW quad cor.*
RMSE_XY 3.40 doq horiz. accuracy*
IMAGE_SOURCE "BLACK AND WHITE FILM" b&w, cir, natural color, other*
SOURCE_IMAGE_ID "NAPP 6304 083" source image id*
SOURCE_IMAGE_DATE 1993 07 15 source image date as yyyy mm dd*
IMAGE_SOURCE "BLACK AND WHITE FILM" b&w, cir, natural color, other*
SOURCE_IMAGE_ID "NAPP 6313 114" source image id*
SOURCE_IMAGE_DATE 1993 09 28 source image date as yyyy mm dd*
IMAGE_SOURCE "BLACK AND WHITE FILM" b&w, cir, natural color, other*
SOURCE_IMAGE_ID "NAPP 6304 084" source image id*
SOURCE_IMAGE_DATE 1993 07 15 source image date as yyyy mm dd*
SOURCE_DEM_DATE 1997 01 01 source dem date yyyy mm dd*
AGENCY "WESTERN MAPPING CENTER (WMC)" oversight agency*
PRODUCER "SCIENCE APPLICATIONS INTERNATIONAL" producer/contractor*
PRODUCTION_SYSTEM "GIS/MAGIC" production system*
STANDARD_VERSION 1996 12 version of DOQ standard*
METADATA_DATE 1998 10 01 date created or changed, yyyy mm dd*
DATA_FILE_SIZE 47853001 data set size in bytes*
BYTE_COUNT 6289 header byte count* * * * * * * * * * * * * * * * * * * * * * * * * * * * * *
END_USGS_HEADER *
