BEGIN_USGS_DOQ_HEADER *
QUADRANGLE_NAME "MOUNT BARCROFT" *
QUADRANT NW *
WEST_LONGITUDE -118 15 0.000 *
EAST_LONGITUDE -118 11 15.000 *
NORTH_LATITUDE 37 37 30.000 *
SOUTH_LATITUDE 37 33 45.000 *
PRODUCTION_DATE 2001 12 4 *
RASTER_ORDER LEFT_RIGHT/TOP_BOTTOM *
BAND_ORGANIZATION "SINGLE FILE" *
BAND_CONTENT BLACK&WHITE *
BITS_PER_PIXEL 8 *
SAMPLES_AND_LINES 6291 7613 *
HORIZONTAL_DATUM NAD83 *
HORIZONTAL_COORDINATE_SYSTEM UTM *
COORDINATE_ZONE 11 *
HORIZONTAL_UNITS METERS *
HORIZONTAL_RESOLUTION 1.0 *
SECONDARY_HORIZONTAL_DATUM NAD27 *
XY_ORIGIN 389219.117 4165243.955 *
SECONDARY_XY_ORIGIN 389299.711 4165045.976 *
NATION US *
STATE CA *
NW_QUAD_CORNER_XY 389694.601 4164943.955 *
NE_QUAD_CORNER_XY 395210.079 4164872.321 *
SE_QUAD_CORNER_XY 395122.388 4157937.911 *
SW_QUAD_CORNER_XY 389602.293 4158009.504 *
SECONDARY_NW_QUAD_XY 389691.873 4164739.208 *
SECONDARY_NE_QUAD_XY 395207.488 4164667.574 *
SECONDARY_SE_QUAD_XY 395119.798 4157733.320 *
SECONDARY_SW_QUAD_XY 389599.567 4157804.911 *
RMSE_XY 1.12 *
IMAGE_SOURCE "BLACK AND WHITE FILM" *
SOURCE_IMAGE_ID "NAPP 10563 163" *
SOURCE_IMAGE_DATE 1998 9 17 *
SOURCE_IMAGE_ID "NAPP 10563 162" *
SOURCE_IMAGE_DATE 1998 9 17 *
SOURCE_IMAGE_ID "NAPP 10563 142" *
SOURCE_IMAGE_DATE 1998 9 17 *
SOURCE_IMAGE_ID "NAPP 10563 69" *
SOURCE_IMAGE_DATE 1998 9 17 *
SOURCE_IMAGE_ID "NAPP 10563 68" *
SOURCE_IMAGE_DATE 1998 9 17 *
SOURCE_IMAGE_ID "NAPP 10569 251" *
SOURCE_IMAGE_DATE 1999 8 8 *
SOURCE_IMAGE_ID "NAPP 10563 149" *
SOURCE_IMAGE_DATE 1998 9 17 *
SOURCE_IMAGE_ID "NAPP 10563 148" *
SOURCE_IMAGE_DATE 1998 9 17 *
SOURCE_IMAGE_ID "NAPP 10563 80" *
SOURCE_IMAGE_DATE 1998 9 17 *
SOURCE_DEM_DATE 2000 0 0 *
AGENCY "WESTERN MAPPING CENTER (WMC)" *
PRODUCER "USDA FS GEOSPATIAL SERVICE AND TECHNOLOGY CENTER" *
PRODUCTION_SYSTEM "ORBIT OR_RECTIFY V.5.2" *
STANDARD_VERSION 1996 12 *
METADATA_DATE 2001 12 31 *
DATA_FILE_SIZE 47899674 *
BYTE_COUNT 6291 * * * * * * * * * * * * * * * * * * * *
END_USGS_HEADER *
