BEGIN_USGS_DOQ_HEADER *
QUADRANGLE_NAME "DYER" *
QUADRANT SW *
WEST_LONGITUDE -118 7 30.000 *
EAST_LONGITUDE -118 3 45.000 *
NORTH_LATITUDE 37 41 15.000 *
SOUTH_LATITUDE 37 37 30.000 *
PRODUCTION_DATE 2001 12 4 *
RASTER_ORDER LEFT_RIGHT/TOP_BOTTOM *
BAND_ORGANIZATION "SINGLE FILE" *
BAND_CONTENT BLACK&WHITE *
BITS_PER_PIXEL 8 *
SAMPLES_AND_LINES 6277 7605 *
HORIZONTAL_DATUM NAD83 *
HORIZONTAL_COORDINATE_SYSTEM UTM *
COORDINATE_ZONE 11 *
HORIZONTAL_UNITS METERS *
HORIZONTAL_RESOLUTION 1.0 *
SECONDARY_HORIZONTAL_DATUM NAD27 *
XY_ORIGIN 400342.653 4172038.804 *
SECONDARY_XY_ORIGIN 400423.188 4171840.659 *
NATION US *
STATE NV *
STATE CA *
NW_QUAD_CORNER_XY 400808.718 4171738.804 *
NE_QUAD_CORNER_XY 406319.511 4171674.482 *
SE_QUAD_CORNER_XY 406240.942 4164740.078 *
SW_QUAD_CORNER_XY 400725.526 4164804.362 *
SECONDARY_NW_QUAD_XY 400806.261 4171533.901 *
SECONDARY_NE_QUAD_XY 406317.191 4171469.578 *
SECONDARY_SE_QUAD_XY 406238.623 4164535.327 *
SECONDARY_SW_QUAD_XY 400723.071 4164599.614 *
RMSE_XY 1.12 *
IMAGE_SOURCE "BLACK AND WHITE FILM" *
SOURCE_IMAGE_ID "NAPP 10563 113" *
SOURCE_IMAGE_DATE 1998 9 17 *
SOURCE_IMAGE_ID "NAPP 10563 114" *
SOURCE_IMAGE_DATE 1998 9 17 *
SOURCE_IMAGE_ID "NAPP 10563 112" *
SOURCE_IMAGE_DATE 1998 9 17 *
SOURCE_IMAGE_ID "NAPP 10563 80" *
SOURCE_IMAGE_DATE 1998 9 17 *
SOURCE_IMAGE_ID "NAPP 10563 81" *
SOURCE_IMAGE_DATE 1998 9 17 *
SOURCE_IMAGE_ID "NAPP 10563 82" *
SOURCE_IMAGE_DATE 1998 9 17 *
SOURCE_IMAGE_ID "NAPP 10551 55" *
SOURCE_IMAGE_DATE 1998 8 22 *
SOURCE_IMAGE_ID "NAPP 10551 56" *
SOURCE_IMAGE_DATE 1998 8 22 *
SOURCE_IMAGE_ID "NAPP 10551 57" *
SOURCE_IMAGE_DATE 1998 8 22 *
SOURCE_DEM_DATE 2000 0 0 *
AGENCY "WESTERN MAPPING CENTER (WMC)" *
PRODUCER "USDA FS GEOSPATIAL SERVICE AND TECHNOLOGY CENTER" *
PRODUCTION_SYSTEM "ORBIT OR_RECTIFY V.5.2" *
STANDARD_VERSION 1996 12 *
METADATA_DATE 2001 12 31 *
DATA_FILE_SIZE 47742862 *
BYTE_COUNT 6277 * * * * * * * * * * * * * * * * * * *
END_USGS_HEADER *
