BEGIN_USGS_DOQ_HEADER *
QUADRANGLE_NAME "WHITE MOUNTAIN PEAK" 3.45 or 7.5-min. name*
QUADRANT NE quadrant indicator if cell size = 3.75-minutes*
WEST_LONGITUDE -118 18 45.000 signed deg min sec SDDD MM SS.SSS*
EAST_LONGITUDE -118 15 0.000 signed deg min sec SDDD MM SS.SSS*
NORTH_LATITUDE 37 45 0.000 signed deg min sec SDDD MM SS.SSS*
SOUTH_LATITUDE 37 41 15.000 signed deg min sec SDDD MM SS.SSS*
PRODUCTION_DATE 1998 9 30 yyyy mm dd*
RASTER_ORDER LEFT_RIGHT/TOP_BOTTOM video display order*
BAND_ORGANIZATION "SINGLE FILE" single file or BSQ, or BIL or BIP*
BAND_CONTENT BLACK&WHITE black&white or red green blue*
BITS_PER_PIXEL 8 radiometric resolution*
SAMPLES_AND_LINES 6290 7620 number of columns and rows*
HORIZONTAL_DATUM NAD83 primary horizontal datum*
HORIZONTAL_COORDINATE_SYSTEM UTM *
COORDINATE_ZONE 11 coordinate system zone number*
HORIZONTAL_UNITS METERS coordinate system units*
HORIZONTAL_RESOLUTION 1.00 pixel horiz. ground sample distance*
SECONDARY_HORIZONTAL_DATUM NAD27 secondary horizontal datum*
XY_ORIGIN 383891.000 4179189.000 coord. of upper left pixel pri. datum*
SECONDARY_XY_ORIGIN 383971.840 4178990.460 coord upper left pixel sec datum*
NATION US nation code*
STATE CA state fip code*
NW_QUAD_CORNER_XY 384373.355 4178888.465 XY coords. of pri. NW quad corner*
NE_QUAD_CORNER_XY 389879.612 4178813.069 XY coords. of pri. NE quad corner*
SE_QUAD_CORNER_XY 389787.041 4171878.477 XY coords. of pri. SE quad corner*
SW_QUAD_CORNER_XY 384276.153 4171953.830 XY coords. of pri. SW quad corner*
SECONDARY_NW_QUAD_XY 384370.483 4178683.413 XY coords. - sec. NW quad cor.*
SECONDARY_NE_QUAD_XY 389876.877 4178608.016 XY coords. - sec. NE quad cor.*
SECONDARY_SE_QUAD_XY 389784.308 4171673.577 XY coords. - sec. SE quad cor.*
SECONDARY_SW_QUAD_XY 384273.283 4171748.932 XY coords. - sec. SW quad cor.*
RMSE_XY 2.00 doq horiz. accuracy*
IMAGE_SOURCE "BLACK AND WHITE FILM" b&w, cir, natural color, other*
SOURCE_IMAGE_ID "NAPP 6313 141" source image id*
SOURCE_IMAGE_DATE 1993 09 28 source image date as yyyy mm dd*
IMAGE_SOURCE "BLACK AND WHITE FILM" b&w, cir, natural color, other*
SOURCE_IMAGE_ID "NAPP 6313 152" source image id*
SOURCE_IMAGE_DATE 1993 09 28 source image date as yyyy mm dd*
IMAGE_SOURCE "BLACK AND WHITE FILM" b&w, cir, natural color, other*
SOURCE_IMAGE_ID "NAPP 6313 153" source image id*
SOURCE_IMAGE_DATE 1993 09 28 source image date as yyyy mm dd*
IMAGE_SOURCE "BLACK AND WHITE FILM" b&w, cir, natural color, other*
SOURCE_IMAGE_ID "NAPP 6313 142" source image id*
SOURCE_IMAGE_DATE 1993 09 28 source image date as yyyy mm dd*
IMAGE_SOURCE "BLACK AND WHITE FILM" b&w, cir, natural color, other*
SOURCE_IMAGE_ID "NAPP 6313 140" source image id*
SOURCE_IMAGE_DATE 1993 09 28 source image date as yyyy mm dd*
IMAGE_SOURCE "BLACK AND WHITE FILM" b&w, cir, natural color, other*
SOURCE_IMAGE_ID "NAPP 6313 134" source image id*
SOURCE_IMAGE_DATE 1993 09 28 source image date as yyyy mm dd*
SOURCE_DEM_DATE 1954 00 00 source dem date yyyy mm dd*
AGENCY "WESTERN MAPPING CENTER (WMC)" oversight agency*
PRODUCER "SCIENCE APPLICATIONS INTERNATIONAL" producer/contractor*
PRODUCTION_SYSTEM "GIS/MAGIC" production system*
STANDARD_VERSION 1996 12 version of DOQ standard*
METADATA_DATE 1998 10 01 date created or changed, yyyy mm dd*
DATA_FILE_SIZE 47936090 data set size in bytes*
BYTE_COUNT 6290 header byte count* * * * * * * * * * * * * * * * * * * * *
END_USGS_HEADER *
