BEGIN_USGS_DOQ_HEADER *
QUADRANGLE_NAME "WHITE MOUNTAIN PEAK" *
QUADRANT SE *
WEST_LONGITUDE -118 18 45.000 *
EAST_LONGITUDE -118 15 0.000 *
NORTH_LATITUDE 37 41 15.000 *
SOUTH_LATITUDE 37 37 30.000 *
PRODUCTION_DATE 2001 12 4 *
RASTER_ORDER LEFT_RIGHT/TOP_BOTTOM *
BAND_ORGANIZATION "SINGLE FILE" *
BAND_CONTENT BLACK&WHITE *
BITS_PER_PIXEL 8 *
SAMPLES_AND_LINES 6291 7617 *
HORIZONTAL_DATUM NAD83 *
HORIZONTAL_COORDINATE_SYSTEM UTM *
COORDINATE_ZONE 11 *
HORIZONTAL_UNITS METERS *
HORIZONTAL_RESOLUTION 1.0 *
SECONDARY_HORIZONTAL_DATUM NAD27 *
XY_ORIGIN 383795.556 4172253.830 *
SECONDARY_XY_ORIGIN 383876.307 4172055.499 *
NATION US *
STATE CA *
NW_QUAD_CORNER_XY 384276.153 4171953.830 *
NE_QUAD_CORNER_XY 389787.041 4171878.477 *
SE_QUAD_CORNER_XY 389694.601 4164943.955 *
SW_QUAD_CORNER_XY 384179.089 4165019.265 *
SECONDARY_NW_QUAD_XY 384273.285 4171748.930 *
SECONDARY_NE_QUAD_XY 389784.310 4171673.576 *
SECONDARY_SE_QUAD_XY 389691.873 4164739.208 *
SECONDARY_SW_QUAD_XY 384176.224 4164814.519 *
RMSE_XY 1.12 *
IMAGE_SOURCE "BLACK AND WHITE FILM" *
SOURCE_IMAGE_ID "NAPP 10569 252" *
SOURCE_IMAGE_DATE 1999 8 8 *
SOURCE_IMAGE_ID "NAPP 10569 251" *
SOURCE_IMAGE_DATE 1999 8 8 *
SOURCE_IMAGE_ID "NAPP 10569 253" *
SOURCE_IMAGE_DATE 1999 8 8 *
SOURCE_IMAGE_ID "NAPP 10567 232" *
SOURCE_IMAGE_DATE 1999 8 1 *
SOURCE_IMAGE_ID "NAPP 10567 231" *
SOURCE_IMAGE_DATE 1999 8 1 *
SOURCE_IMAGE_ID "NAPP 10567 230" *
SOURCE_IMAGE_DATE 1999 8 1 *
SOURCE_IMAGE_ID "NAPP 10563 142" *
SOURCE_IMAGE_DATE 1998 9 17 *
SOURCE_IMAGE_ID "NAPP 10563 143" *
SOURCE_IMAGE_DATE 1998 9 17 *
SOURCE_IMAGE_ID "NAPP 10563 144" *
SOURCE_IMAGE_DATE 1998 9 17 *
SOURCE_DEM_DATE 2000 0 0 *
AGENCY "WESTERN MAPPING CENTER (WMC)" *
PRODUCER "USDA FS GEOSPATIAL SERVICE AND TECHNOLOGY CENTER" *
PRODUCTION_SYSTEM "ORBIT OR_RECTIFY V.5.2" *
STANDARD_VERSION 1996 12 *
METADATA_DATE 2001 12 31 *
DATA_FILE_SIZE 47924838 *
BYTE_COUNT 6291 * * * * * * * * * * * * * * * * * * * *
END_USGS_HEADER *
