BEGIN_USGS_DOQ_HEADER *
QUADRANGLE_NAME "WATTERSON CANYON" 3.45 or 7.5-min. name*
QUADRANT SE quadrant indicator if cell size = 3.75-minutes*
WEST_LONGITUDE -118 41 15.000 signed deg min sec SDDD MM SS.SSS*
EAST_LONGITUDE -118 37 30.000 signed deg min sec SDDD MM SS.SSS*
NORTH_LATITUDE 37 41 15.000 signed deg min sec SDDD MM SS.SSS*
SOUTH_LATITUDE 37 37 30.000 signed deg min sec SDDD MM SS.SSS*
PRODUCTION_DATE 1998 4 29 yyyy mm dd*
RASTER_ORDER LEFT_RIGHT/TOP_BOTTOM video display order*
BAND_ORGANIZATION "SINGLE FILE" single file or BSQ, or BIL or BIP*
BAND_CONTENT BLACK&WHITE black&white or red green blue*
BITS_PER_PIXEL 8 radiometric resolution*
SAMPLES_AND_LINES 6324 7642 number of columns and rows*
HORIZONTAL_DATUM NAD83 primary horizontal datum*
HORIZONTAL_COORDINATE_SYSTEM UTM *
COORDINATE_ZONE 11 coordinate system zone number*
HORIZONTAL_UNITS METERS coordinate system units*
HORIZONTAL_RESOLUTION 1.00 pixel horiz. ground sample distance*
SECONDARY_HORIZONTAL_DATUM NAD27 secondary horizontal datum*
XY_ORIGIN 350699.000 4172784.000 coord. of upper left pixel pri. datum*
SECONDARY_XY_ORIGIN 350780.114 4172585.100 coord upper left pixel sec datum*
NATION US nation code*
STATE CA state fip code*
NW_QUAD_CORNER_XY 351210.030 4172483.185 XY coords. of pri. NW quad corner*
NE_QUAD_CORNER_XY 356721.153 4172385.762 XY coords. of pri. NE quad corner*
SE_QUAD_CORNER_XY 356600.963 4165450.949 XY coords. of pri. SE quad corner*
SW_QUAD_CORNER_XY 351085.213 4165548.316 XY coords. of pri. SW quad corner*
SECONDARY_NW_QUAD_XY 351206.340 4172278.300 XY coords. - sec. NW quad cor.*
SECONDARY_NE_QUAD_XY 356717.600 4172180.875 XY coords. - sec. NE quad cor.*
SECONDARY_SE_QUAD_XY 356597.412 4165246.216 XY coords. - sec. SE quad cor.*
SECONDARY_SW_QUAD_XY 351081.526 4165343.584 XY coords. - sec. SW quad cor.*
RMSE_XY 2.20 doq horiz. accuracy*
IMAGE_SOURCE "BLACK AND WHITE FILM" b&w, cir, natural color, other*
SOURCE_IMAGE_ID "NAPP 6309 194" source image id*
SOURCE_IMAGE_DATE 1993 09 25 source image date as yyyy mm dd*
SOURCE_DEM_DATE 1997 01 01 source dem date yyyy mm dd*
AGENCY "WESTERN MAPPING CENTER (WMC)" oversight agency*
PRODUCER "SCIENCE APPLICATIONS INTERNATIONAL" producer/contractor*
PRODUCTION_SYSTEM "GIS/MAGIC" production system*
STANDARD_VERSION 1996 12 version of DOQ standard*
METADATA_DATE 1998 06 16 date created or changed, yyyy mm dd*
DATA_FILE_SIZE 48334332 data set size in bytes*
BYTE_COUNT 6324 header byte count* * * * * * * * * * * * * * * * * * * * * * * * * * * * * * * * * * * * *
END_USGS_HEADER *
