BEGIN_USGS_DOQ_HEADER *
QUADRANGLE_NAME "EAST OF DAVIS MOUNTAIN" *
QUADRANT SE *
WEST_LONGITUDE -118 3 45.000 *
EAST_LONGITUDE -118 0 0.000 *
NORTH_LATITUDE 37 48 45.000 *
SOUTH_LATITUDE 37 45 0.000 *
PRODUCTION_DATE 2001 12 3 *
RASTER_ORDER LEFT_RIGHT/TOP_BOTTOM *
BAND_ORGANIZATION "SINGLE FILE" *
BAND_CONTENT BLACK&WHITE *
BITS_PER_PIXEL 8 *
SAMPLES_AND_LINES 6263 7602 *
HORIZONTAL_DATUM NAD83 *
HORIZONTAL_COORDINATE_SYSTEM UTM *
COORDINATE_ZONE 11 *
HORIZONTAL_UNITS METERS *
HORIZONTAL_RESOLUTION 1.0 *
SECONDARY_HORIZONTAL_DATUM NAD27 *
XY_ORIGIN 406015.351 4185843.505 *
SECONDARY_XY_ORIGIN 406095.885 4185645.080 *
NATION US *
STATE NV *
NW_QUAD_CORNER_XY 406476.984 4185543.505 *
NE_QUAD_CORNER_XY 411978.483 4185482.791 *
SE_QUAD_CORNER_XY 411904.326 4178548.278 *
SW_QUAD_CORNER_XY 406398.192 4178608.958 *
SECONDARY_NW_QUAD_XY 406474.661 4185338.294 *
SECONDARY_NE_QUAD_XY 411976.296 4185277.579 *
SECONDARY_SE_QUAD_XY 411902.141 4178343.219 *
SECONDARY_SW_QUAD_XY 406395.870 4178403.900 *
RMSE_XY 2.44 *
IMAGE_SOURCE "BLACK AND WHITE FILM" *
SOURCE_IMAGE_ID "NAPP 11554 65" *
SOURCE_IMAGE_DATE 1999 9 12 *
SOURCE_IMAGE_ID "NAPP 10551 59" *
SOURCE_IMAGE_DATE 1998 8 22 *
SOURCE_IMAGE_ID "NAPP 11554 66" *
SOURCE_IMAGE_DATE 1999 9 12 *
SOURCE_IMAGE_ID "NAPP 11554 55" *
SOURCE_IMAGE_DATE 1999 9 12 *
SOURCE_IMAGE_ID "NAPP 11554 54" *
SOURCE_IMAGE_DATE 1999 9 12 *
SOURCE_IMAGE_ID "NAPP 11554 53" *
SOURCE_IMAGE_DATE 1999 9 12 *
SOURCE_DEM_DATE 2000 0 0 *
AGENCY "WESTERN MAPPING CENTER (WMC)" *
PRODUCER "USDA FS GEOSPATIAL SERVICE AND TECHNOLOGY CENTER" *
PRODUCTION_SYSTEM "ORBIT OR_RECTIFY V.5.2" *
STANDARD_VERSION 1996 12 *
METADATA_DATE 2001 12 31 *
DATA_FILE_SIZE 47617589 *
BYTE_COUNT 6263 * * * * * * * * * * * * * * * * * * * * * * * * * *
END_USGS_HEADER *
