BEGIN_USGS_DOQ_HEADER *
QUADRANGLE_NAME "BOUNDARY PEAK" *
QUADRANT NW *
WEST_LONGITUDE -118 22 30.000 *
EAST_LONGITUDE -118 18 45.000 *
NORTH_LATITUDE 37 52 30.000 *
SOUTH_LATITUDE 37 48 45.000 *
PRODUCTION_DATE 2001 12 3 *
RASTER_ORDER LEFT_RIGHT/TOP_BOTTOM *
BAND_ORGANIZATION "SINGLE FILE" *
BAND_CONTENT BLACK&WHITE *
BITS_PER_PIXEL 8 *
SAMPLES_AND_LINES 6283 7620 *
HORIZONTAL_DATUM NAD83 *
HORIZONTAL_COORDINATE_SYSTEM UTM *
COORDINATE_ZONE 11 *
HORIZONTAL_UNITS METERS *
HORIZONTAL_RESOLUTION 1.0 *
SECONDARY_HORIZONTAL_DATUM NAD27 *
XY_ORIGIN 378585.189 4193137.108 *
SECONDARY_XY_ORIGIN 378666.077 4192938.163 *
NATION US *
STATE NV *
STATE CA *
NW_QUAD_CORNER_XY 379071.164 4192837.108 *
NE_QUAD_CORNER_XY 384568.174 4192757.944 *
SE_QUAD_CORNER_XY 384470.695 4185823.170 *
SW_QUAD_CORNER_XY 378969.041 4185902.290 *
SECONDARY_NW_QUAD_XY 379068.152 4192631.754 *
SECONDARY_NE_QUAD_XY 384565.299 4192552.588 *
SECONDARY_SE_QUAD_XY 384467.823 4185617.965 *
SECONDARY_SW_QUAD_XY 378966.032 4185697.087 *
RMSE_XY 2.44 *
IMAGE_SOURCE "BLACK AND WHITE FILM" *
SOURCE_IMAGE_ID "NAPP 10563 138" *
SOURCE_IMAGE_DATE 1998 9 17 *
SOURCE_IMAGE_ID "NAPP 10563 139" *
SOURCE_IMAGE_DATE 1998 9 17 *
SOURCE_IMAGE_ID "NAPP 10567 227" *
SOURCE_IMAGE_DATE 1999 8 1 *
SOURCE_IMAGE_ID "NAPP 10563 31" *
SOURCE_IMAGE_DATE 1998 9 17 *
SOURCE_IMAGE_ID "NAPP 10563 30" *
SOURCE_IMAGE_DATE 1998 9 17 *
SOURCE_IMAGE_ID "NAPP 10563 29" *
SOURCE_IMAGE_DATE 1998 9 17 *
SOURCE_IMAGE_ID "NAPP 10569 257" *
SOURCE_IMAGE_DATE 1999 8 8 *
SOURCE_IMAGE_ID "NAPP 10569 258" *
SOURCE_IMAGE_DATE 1999 8 8 *
SOURCE_IMAGE_ID "NAPP 10569 259" *
SOURCE_IMAGE_DATE 1999 8 8 *
SOURCE_DEM_DATE 2000 0 0 *
AGENCY "WESTERN MAPPING CENTER (WMC)" *
PRODUCER "USDA FS GEOSPATIAL SERVICE AND TECHNOLOGY CENTER" *
PRODUCTION_SYSTEM "ORBIT OR_RECTIFY V.5.2" *
STANDARD_VERSION 1996 12 *
METADATA_DATE 2001 12 31 *
DATA_FILE_SIZE 47882743 *
BYTE_COUNT 6283 * * * * * * * * * * * * * * * * * * *
END_USGS_HEADER *
