BEGIN_USGS_DOQ_HEADER *
QUADRANGLE_NAME "BENTON HOT SPRINGS" *
QUADRANT NW *
WEST_LONGITUDE -118 37 30.000 *
EAST_LONGITUDE -118 33 45.000 *
NORTH_LATITUDE 37 52 30.000 *
SOUTH_LATITUDE 37 48 45.000 *
PRODUCTION_DATE 2001 12 19 *
RASTER_ORDER LEFT_RIGHT/TOP_BOTTOM *
BAND_ORGANIZATION "SINGLE FILE" *
BAND_CONTENT BLACK&WHITE *
BITS_PER_PIXEL 8 *
SAMPLES_AND_LINES 6302 7635 *
HORIZONTAL_DATUM NAD83 *
HORIZONTAL_COORDINATE_SYSTEM UTM *
COORDINATE_ZONE 11 *
HORIZONTAL_UNITS METERS *
HORIZONTAL_RESOLUTION 1.0 *
SECONDARY_HORIZONTAL_DATUM NAD27 *
XY_ORIGIN 356577.472 4193490.609 *
SECONDARY_XY_ORIGIN 356658.528 4193291.432 *
NATION US *
STATE CA *
NW_QUAD_CORNER_XY 357082.749 4193190.609 *
NE_QUAD_CORNER_XY 362579.912 4193096.707 *
SE_QUAD_CORNER_XY 362463.855 4186161.743 *
SW_QUAD_CORNER_XY 356962.047 4186255.592 *
SECONDARY_NW_QUAD_XY 357079.191 4192985.265 *
SECONDARY_NE_QUAD_XY 362576.491 4192891.361 *
SECONDARY_SE_QUAD_XY 362460.437 4185956.548 *
SECONDARY_SW_QUAD_XY 356958.491 4186050.400 *
RMSE_XY 1.52 *
IMAGE_SOURCE "BLACK AND WHITE FILM" *
SOURCE_IMAGE_ID "NAPP 10562 70" *
SOURCE_IMAGE_DATE 1998 9 17 *
SOURCE_IMAGE_ID "NAPP 10562 69" *
SOURCE_IMAGE_DATE 1998 9 17 *
SOURCE_IMAGE_ID "NAPP 10562 71" *
SOURCE_IMAGE_DATE 1998 9 17 *
SOURCE_IMAGE_ID "NAPP 10562 40" *
SOURCE_IMAGE_DATE 1998 9 17 *
SOURCE_IMAGE_ID "NAPP 10562 39" *
SOURCE_IMAGE_DATE 1998 9 17 *
SOURCE_IMAGE_ID "NAPP 10562 38" *
SOURCE_IMAGE_DATE 1998 9 17 *
SOURCE_IMAGE_ID "NAPP 10562 90" *
SOURCE_IMAGE_DATE 1998 9 17 *
SOURCE_IMAGE_ID "NAPP 10562 89" *
SOURCE_IMAGE_DATE 1998 9 17 *
SOURCE_IMAGE_ID "NAPP 10562 88" *
SOURCE_IMAGE_DATE 1998 9 17 *
SOURCE_DEM_DATE 2000 0 0 *
AGENCY "WESTERN MAPPING CENTER (WMC)" *
PRODUCER "USDA FS GEOSPATIAL SERVICE AND TECHNOLOGY CENTER" *
PRODUCTION_SYSTEM "ORBIT OR_RECTIFY V.5.2" *
STANDARD_VERSION 1996 12 *
METADATA_DATE 2001 12 31 *
DATA_FILE_SIZE 48122072 *
BYTE_COUNT 6302 * * * * * * * * * * * * * * * * * * * *
END_USGS_HEADER *
